BEGIN:VCALENDAR
VERSION:2.0
PRODID:-//CPME93 - ECPv6.12.0.1//NONSGML v1.0//EN
CALSCALE:GREGORIAN
METHOD:PUBLISH
X-WR-CALNAME:CPME93
X-ORIGINAL-URL:https://www.cpme93.fr
X-WR-CALDESC:Évènements pour CPME93
REFRESH-INTERVAL;VALUE=DURATION:PT1H
X-Robots-Tag:noindex
X-PUBLISHED-TTL:PT1H
BEGIN:VTIMEZONE
TZID:Europe/Paris
BEGIN:DAYLIGHT
TZOFFSETFROM:+0100
TZOFFSETTO:+0200
TZNAME:CEST
DTSTART:20200329T010000
END:DAYLIGHT
BEGIN:STANDARD
TZOFFSETFROM:+0200
TZOFFSETTO:+0100
TZNAME:CET
DTSTART:20201025T010000
END:STANDARD
BEGIN:DAYLIGHT
TZOFFSETFROM:+0100
TZOFFSETTO:+0200
TZNAME:CEST
DTSTART:20210328T010000
END:DAYLIGHT
BEGIN:STANDARD
TZOFFSETFROM:+0200
TZOFFSETTO:+0100
TZNAME:CET
DTSTART:20211031T010000
END:STANDARD
BEGIN:DAYLIGHT
TZOFFSETFROM:+0100
TZOFFSETTO:+0200
TZNAME:CEST
DTSTART:20220327T010000
END:DAYLIGHT
BEGIN:STANDARD
TZOFFSETFROM:+0200
TZOFFSETTO:+0100
TZNAME:CET
DTSTART:20221030T010000
END:STANDARD
BEGIN:DAYLIGHT
TZOFFSETFROM:+0100
TZOFFSETTO:+0200
TZNAME:CEST
DTSTART:20230326T010000
END:DAYLIGHT
BEGIN:STANDARD
TZOFFSETFROM:+0200
TZOFFSETTO:+0100
TZNAME:CET
DTSTART:20231029T010000
END:STANDARD
BEGIN:DAYLIGHT
TZOFFSETFROM:+0100
TZOFFSETTO:+0200
TZNAME:CEST
DTSTART:20240331T010000
END:DAYLIGHT
BEGIN:STANDARD
TZOFFSETFROM:+0200
TZOFFSETTO:+0100
TZNAME:CET
DTSTART:20241027T010000
END:STANDARD
END:VTIMEZONE
BEGIN:VTIMEZONE
TZID:UTC
BEGIN:STANDARD
TZOFFSETFROM:+0000
TZOFFSETTO:+0000
TZNAME:UTC
DTSTART:20220101T000000
END:STANDARD
END:VTIMEZONE
BEGIN:VEVENT
DTSTART;TZID=Europe/Paris:20240911T100000
DTEND;TZID=Europe/Paris:20240911T160000
DTSTAMP:20260421T001344
CREATED:20230913T124747Z
LAST-MODIFIED:20240812T101010Z
UID:10000947-1726048800-1726070400@www.cpme93.fr
SUMMARY:Permanence d’experts
DESCRIPTION:(finance \, impayés\, rh\, recrutement\, formation\, droit social…) \nConseils et diagnostics pour votre entreprise en présentiel ou en distanciel. \nVenez poser vos questions sur rdv uniquement. \nRDV : auprès de vperrin-terrin@cpme93.fr \nde 10h00 à 16h00
URL:https://www.cpme93.fr/evenement/permanence-dexperts-2024/
LOCATION:Convergence entrepreneurs\, 1 Rue Auguste Renoir\, Aulnay-sous-Bois\, Île-de-France\, 93600\, France
CATEGORIES:Permance juridique
ATTACH;FMTTYPE=image/png:https://www.cpme93.fr/wp-content/uploads/2023/09/permanence.png
ORGANIZER;CN="CPME 93":MAILTO:contact@cpme93.fr
END:VEVENT
BEGIN:VEVENT
DTSTART;TZID=Europe/Paris:20231122T100000
DTEND;TZID=Europe/Paris:20231122T160000
DTSTAMP:20260421T001344
CREATED:20230913T124707Z
LAST-MODIFIED:20230913T124707Z
UID:10000946-1700647200-1700668800@www.cpme93.fr
SUMMARY:Permanence d’experts
DESCRIPTION:(finance \, impayés\, rh\, recrutement\, formation\, droit social…) \nConseils et diagnostics pour votre entreprise en présentiel ou en distanciel \nVenez poser vos questions sur rdv uniquement \nrdv auprès de vperrin-terrin@cpme93.fr \nSur rdv de 10h00 à 16h00 \nCette permanence sera également les 22 novembre et 13 décembre
URL:https://www.cpme93.fr/evenement/permanence-dexperts-13-2/
LOCATION:Convergence entrepreneurs\, 1 Rue Auguste Renoir\, Aulnay-sous-Bois\, Île-de-France\, 93600\, France
CATEGORIES:Permance juridique
ATTACH;FMTTYPE=image/jpeg:https://www.cpme93.fr/wp-content/uploads/2021/07/permanene-cpme.jpg
ORGANIZER;CN="CPME 93":MAILTO:contact@cpme93.fr
END:VEVENT
BEGIN:VEVENT
DTSTART;TZID=Europe/Paris:20231011T100000
DTEND;TZID=Europe/Paris:20231011T160000
DTSTAMP:20260421T001344
CREATED:20230913T124540Z
LAST-MODIFIED:20230913T124610Z
UID:10000945-1697018400-1697040000@www.cpme93.fr
SUMMARY:Permanence d’experts
DESCRIPTION:(finance \, impayés\, rh\, recrutement\, formation\, droit social…) \nConseils et diagnostics pour votre entreprise en présentiel ou en distanciel \nVenez poser vos questions sur rdv uniquement \nrdv auprès de vperrin-terrin@cpme93.fr \nSur rdv de 10h00 à 16h00 \nCette permanence sera également les 22 novembre et 13 décembre
URL:https://www.cpme93.fr/evenement/permanence-dexperts-13/
LOCATION:Convergence entrepreneurs\, 1 Rue Auguste Renoir\, Aulnay-sous-Bois\, Île-de-France\, 93600\, France
CATEGORIES:Permance juridique
ATTACH;FMTTYPE=image/jpeg:https://www.cpme93.fr/wp-content/uploads/2021/07/permanene-cpme.jpg
ORGANIZER;CN="CPME 93":MAILTO:contact@cpme93.fr
END:VEVENT
BEGIN:VEVENT
DTSTART;TZID=Europe/Paris:20230913T100000
DTEND;TZID=Europe/Paris:20230913T160000
DTSTAMP:20260421T001344
CREATED:20230720T144559Z
LAST-MODIFIED:20230720T144559Z
UID:10000937-1694599200-1694620800@www.cpme93.fr
SUMMARY:finance \, impayés\, rh\, recrutement\, formation\, droit social
DESCRIPTION:Permanence d’experts \n(finance \, impayés\, rh\, recrutement\, formation\, droit social…) \nConseils et diagnostics pour votre entreprise en présentiel ou en distanciel \nVenez poser vos questions sur rdv uniquement \nrdv auprès de vperrin-terrin@cpme93.fr \nSur rdv de 10h00 à 16h00 \nCette permanence sera également les 11 octobre\, 22 novembre et 13 décembre
URL:https://www.cpme93.fr/evenement/finance-impayes-rh-recrutement-formation-droit-social/
LOCATION:Convergence entrepreneurs\, 1 Rue Auguste Renoir\, Aulnay-sous-Bois\, Île-de-France\, 93600\, France
CATEGORIES:Permance juridique
ATTACH;FMTTYPE=image/jpeg:https://www.cpme93.fr/wp-content/uploads/2021/07/permanene-cpme.jpg
ORGANIZER;CN="CPME 93":MAILTO:contact@cpme93.fr
END:VEVENT
BEGIN:VEVENT
DTSTART;TZID=UTC:20220512T100000
DTEND;TZID=UTC:20220512T160000
DTSTAMP:20260421T001344
CREATED:20220427T083616Z
LAST-MODIFIED:20220427T083616Z
UID:10000902-1652349600-1652371200@www.cpme93.fr
SUMMARY:Permanence d’experts
DESCRIPTION:(finance \, impayés\, rh\, recrutement\, formation\, droit social…) \nConseils et diagnostics pour votre entreprise en présentiel ou en distanciel \nVenez poser vos questions sur rdv uniquement \nrdv auprès de vperrin-terrin@cpme93.fr \nSur rdv de 10h00 à 16h00
URL:https://www.cpme93.fr/evenement/permanence-dexperts-11/
LOCATION:Convergence entrepreneurs\, 1 Rue Auguste Renoir\, Aulnay-sous-Bois\, Île-de-France\, 93600\, France
CATEGORIES:Divers
ATTACH;FMTTYPE=image/jpeg:https://www.cpme93.fr/wp-content/uploads/2020/02/expert.jpg
ORGANIZER;CN="CPME 93":MAILTO:contact@cpme93.fr
END:VEVENT
BEGIN:VEVENT
DTSTART;TZID=Europe/Paris:20220415T100000
DTEND;TZID=Europe/Paris:20220415T160000
DTSTAMP:20260421T001344
CREATED:20220310T150148Z
LAST-MODIFIED:20220310T150148Z
UID:10000896-1650016800-1650038400@www.cpme93.fr
SUMMARY:Permanence d’experts
DESCRIPTION:(finance \, impayés\, rh\, recrutement\, formation\, droit social…) \nSur rdv de 10h00 à 16h00 \nConseils et diagnostics pour votre entreprise en présentiel ou en distanciel \nVenez poser vos questions sur rdv uniquement \nrdv auprès de vperrin-terrin@cpme93.fr
URL:https://www.cpme93.fr/evenement/permanence-dexperts-10/
LOCATION:Convergence entrepreneurs\, 1 Rue Auguste Renoir\, Aulnay-sous-Bois\, Île-de-France\, 93600\, France
CATEGORIES:Permance juridique
ATTACH;FMTTYPE=image/jpeg:https://www.cpme93.fr/wp-content/uploads/2021/07/permanene-cpme.jpg
ORGANIZER;CN="CPME 93":MAILTO:contact@cpme93.fr
END:VEVENT
BEGIN:VEVENT
DTSTART;TZID=Europe/Paris:20211216T090000
DTEND;TZID=Europe/Paris:20211216T120000
DTSTAMP:20260421T001344
CREATED:20211122T094346Z
LAST-MODIFIED:20211122T094346Z
UID:10000891-1639645200-1639656000@www.cpme93.fr
SUMMARY:ATELIER   Créer son entreprise\, le choix de la forme juridique
DESCRIPTION:Les personnes qui créent leur entreprise se trouvent vite face à un choix crucial : quelle forme juridique choisir ? \nLes responsabilités\, le capital social ou encore le régime fiscal qui s’y rapporte divergent fortement d’un statut à l’autre. \nAu cours de cette matinale nous ferons un tour d’horizon des différents statuts possible  \nDe 9h00 à 12h00 \nInscription auprès de vperrin-terrin@cpme93.fr
URL:https://www.cpme93.fr/evenement/atelier-creer-son-entreprise-le-choix-de-la-forme-juridique/
LOCATION:Convergence entrepreneurs\, 1 Rue Auguste Renoir\, Aulnay-sous-Bois\, Île-de-France\, 93600\, France
CATEGORIES:Atelier
ATTACH;FMTTYPE=image/jpeg:https://www.cpme93.fr/wp-content/uploads/2018/06/cpme93_atelier_communication.jpg
ORGANIZER;CN="CPME 93":MAILTO:contact@cpme93.fr
END:VEVENT
BEGIN:VEVENT
DTSTART;TZID=Europe/Paris:20211214T100000
DTEND;TZID=Europe/Paris:20211214T160000
DTSTAMP:20260421T001344
CREATED:20211122T093300Z
LAST-MODIFIED:20211122T093300Z
UID:10000892-1639476000-1639497600@www.cpme93.fr
SUMMARY:Permanence d’experts
DESCRIPTION:(finance \, impayés\, rh\, recrutement\, formation\, droit social…) \nSur rdv de 10h00 à 16h00 \nconseils et diagnostics pour votre entreprise  \nVenez poser vos questions sur rdv uniquement \nrdv auprès de vperrin-terrin@cpme93.fr
URL:https://www.cpme93.fr/evenement/permanence-dexperts-8/
LOCATION:Convergence entrepreneurs\, 1 Rue Auguste Renoir\, Aulnay-sous-Bois\, Île-de-France\, 93600\, France
CATEGORIES:Divers
ATTACH;FMTTYPE=image/jpeg:https://www.cpme93.fr/wp-content/uploads/2020/02/expert.jpg
END:VEVENT
BEGIN:VEVENT
DTSTART;TZID=Europe/Paris:20211116T100000
DTEND;TZID=Europe/Paris:20211116T160000
DTSTAMP:20260421T001344
CREATED:20211018T075304Z
LAST-MODIFIED:20211018T075329Z
UID:10000882-1637056800-1637078400@www.cpme93.fr
SUMMARY:Permanence d’experts
DESCRIPTION:(finance \, impayés\, rh\, recrutement\, formation\, droit social…) \nSur rdv de 10h00 à 16h00 \nconseils et diagnostics pour votre entreprise  \nVenez poser vos questions sur rdv uniquement \nrdv auprès de vperrin-terrin@cpme93.fr
URL:https://www.cpme93.fr/evenement/permanence-dexperts-7/
LOCATION:Convergence entrepreneurs\, 1 Rue Auguste Renoir\, Aulnay-sous-Bois\, Île-de-France\, 93600\, France
CATEGORIES:Permance juridique
ATTACH;FMTTYPE=image/jpeg:https://www.cpme93.fr/wp-content/uploads/2021/07/permanene-cpme.jpg
ORGANIZER;CN="CPME 93":MAILTO:contact@cpme93.fr
END:VEVENT
BEGIN:VEVENT
DTSTART;TZID=Europe/Paris:20211015T100000
DTEND;TZID=Europe/Paris:20211015T160000
DTSTAMP:20260421T001344
CREATED:20210928T140146Z
LAST-MODIFIED:20210928T140216Z
UID:10000876-1634292000-1634313600@www.cpme93.fr
SUMMARY:Permanence d’experts
DESCRIPTION:(finance \, impayés\, rh\, recrutement\, formation\, droit social…) \nSur rdv de 10h00 à 16h00 \nconseils et diagnostics pour votre entreprise en présentiel ou en distanciel \nVenez poser vos questions sur rdv uniquement \nrdv auprès de vperrin-terrin@cpme93.fr
URL:https://www.cpme93.fr/evenement/permanence-dexperts-6/
LOCATION:Convergence entrepreneurs\, 1 Rue Auguste Renoir\, Aulnay-sous-Bois\, Île-de-France\, 93600\, France
CATEGORIES:Permance juridique
ATTACH;FMTTYPE=image/jpeg:https://www.cpme93.fr/wp-content/uploads/2021/07/permanene-cpme.jpg
ORGANIZER;CN="CPME 93":MAILTO:contact@cpme93.fr
END:VEVENT
BEGIN:VEVENT
DTSTART;TZID=Europe/Paris:20210910T100000
DTEND;TZID=Europe/Paris:20210910T160000
DTSTAMP:20260421T001344
CREATED:20210708T092311Z
LAST-MODIFIED:20210708T092337Z
UID:10000864-1631268000-1631289600@www.cpme93.fr
SUMMARY:Permanence d’experts
DESCRIPTION:(finance \, impayés\, rh\, recrutement\, formation\, droit social…) \nSur rdv de 10h00 à 16h00 \nconseils et diagnostics pour votre entreprise en présentiel ou en distanciel \nVenez poser vos questions sur rdv uniquement \nrdv auprès de vperrin-terrin@cpme93.fr
URL:https://www.cpme93.fr/evenement/permanence-dexperts-5/
LOCATION:Convergence entrepreneurs\, 1 Rue Auguste Renoir\, Aulnay-sous-Bois\, Île-de-France\, 93600\, France
CATEGORIES:Permance juridique
ATTACH;FMTTYPE=image/jpeg:https://www.cpme93.fr/wp-content/uploads/2021/07/permanene-cpme.jpg
ORGANIZER;CN="CPME 93":MAILTO:contact@cpme93.fr
END:VEVENT
BEGIN:VEVENT
DTSTART;TZID=Europe/Paris:20210609T100000
DTEND;TZID=Europe/Paris:20210609T160000
DTSTAMP:20260421T001344
CREATED:20210415T094419Z
LAST-MODIFIED:20210415T094419Z
UID:10000748-1623232800-1623254400@www.cpme93.fr
SUMMARY:Permanence d’experts
DESCRIPTION:Une journée de conseils et diagnostics pour votre entreprise \n(finance \, impayés\, rh\, recrutement\, formation\, droit social…) \nSur rdv de 10h00 à 16h00 \nauprès de contact@cpme93.fr
URL:https://www.cpme93.fr/evenement/permanence-dexperts-4/
LOCATION:Convergence entrepreneurs\, 1 Rue Auguste Renoir\, Aulnay-sous-Bois\, Île-de-France\, 93600\, France
CATEGORIES:Les rendez-vous de l'entreprise
ATTACH;FMTTYPE=image/jpeg:https://www.cpme93.fr/wp-content/uploads/2020/02/expert.jpg
ORGANIZER;CN="CPME 93":MAILTO:contact@cpme93.fr
END:VEVENT
BEGIN:VEVENT
DTSTART;TZID=Europe/Paris:20201012T100000
DTEND;TZID=Europe/Paris:20201012T160000
DTSTAMP:20260421T001344
CREATED:20201006T152035Z
LAST-MODIFIED:20201006T152035Z
UID:10000845-1602496800-1602518400@www.cpme93.fr
SUMMARY:Permanence d’experts
DESCRIPTION:Une journée de conseils et diagnostics pour votre entreprise \n(finance \, impayés\, rh\, recrutement\, formation\, droit social…) \nSur rdv de 10h00 à 16h00 \nauprès de contact@cpme93.fr
URL:https://www.cpme93.fr/evenement/permanence-dexperts-2/
LOCATION:Convergence entrepreneurs\, 1 Rue Auguste Renoir\, Aulnay-sous-Bois\, Île-de-France\, 93600\, France
CATEGORIES:Divers
ATTACH;FMTTYPE=image/jpeg:https://www.cpme93.fr/wp-content/uploads/2020/02/expert.jpg
ORGANIZER;CN="CPME 93":MAILTO:contact@cpme93.fr
END:VEVENT
BEGIN:VEVENT
DTSTART;TZID=Europe/Paris:20200914T100000
DTEND;TZID=Europe/Paris:20200914T160000
DTSTAMP:20260421T001344
CREATED:20200722T130057Z
LAST-MODIFIED:20200722T130440Z
UID:10000839-1600077600-1600099200@www.cpme93.fr
SUMMARY:Permanence d’experts
DESCRIPTION:Une journée de conseils et diagnostics pour votre entreprise \n(finance \, impayés\, rh\, recrutement\, formation\, droit social…) \nSur rdv de 10h00 à 16h00 \nauprès de contact@cpme93.fr
URL:https://www.cpme93.fr/evenement/permanence-dexperts/
LOCATION:Convergence entrepreneurs\, 1 Rue Auguste Renoir\, Aulnay-sous-Bois\, Île-de-France\, 93600\, France
CATEGORIES:Les rendez-vous de l'entreprise
ATTACH;FMTTYPE=image/jpeg:https://www.cpme93.fr/wp-content/uploads/2020/02/expert.jpg
ORGANIZER;CN="CPME 93":MAILTO:contact@cpme93.fr
END:VEVENT
END:VCALENDAR