BEGIN:VCALENDAR
VERSION:2.0
PRODID:-//CPME93 - ECPv6.12.0.1//NONSGML v1.0//EN
CALSCALE:GREGORIAN
METHOD:PUBLISH
X-ORIGINAL-URL:https://www.cpme93.fr
X-WR-CALDESC:Évènements pour CPME93
REFRESH-INTERVAL;VALUE=DURATION:PT1H
X-Robots-Tag:noindex
X-PUBLISHED-TTL:PT1H
BEGIN:VTIMEZONE
TZID:UTC
BEGIN:STANDARD
TZOFFSETFROM:+0000
TZOFFSETTO:+0000
TZNAME:UTC
DTSTART:20230101T000000
END:STANDARD
END:VTIMEZONE
BEGIN:VEVENT
DTSTART;TZID=UTC:20230404T090000
DTEND;TZID=UTC:20230404T100000
DTSTAMP:20260419T200445
CREATED:20230214T104452Z
LAST-MODIFIED:20230214T104835Z
UID:10000809-1680598800-1680602400@www.cpme93.fr
SUMMARY:Les fondamentaux pour maitriser l’univers Méta : Facebook & Instagram
DESCRIPTION:Campagnes de communication Instagram\nLe groupe Meta via ses différentes applications (Facebook et Instagram…) possède plus de 36\,2 millions d’utilisateurs\, par jour\, soit 57\,4% de la population française. Meta est un outil indispensable pour la création de campagnes de communication Instagram et Facebook. En effet\, elles peuvent offrir des avantages incroyables en termes de visibilité et de notoriété pour votre entreprise. \nLes publicités Instagram et Facebook sont appréciées  par les utilisateurs\, car elles sont natives\, c’est un des points forts de ces canaux de communication. La publicité native s’intègre parfaitement au contenu de l’utilisateur (photo\, vidéo…). Ces contenus sont alors beaucoup plus acceptés et appréciés. \nAfin de créer une bonne campagne de communication Instagram ou Facebook il est important de connaître leurs avantages et leurs fonctionnements\, ainsi ceux de la plateforme Meta. Ces campagnes de communication nécessitent\, au préalable\, la mise en place d’objectifs\, d’une cible et de visuels aux formats adaptés aux objectifs. À travers ce webinaire vous aurez la chance de pouvoir découvrir tous ces points afin de créer votre campagne de communication Instagram ou Facebook. \nAu programme du webinaire\nLors de ce webinaire nous verrons le potentiel et l’utilisation de la plateforme Meta. Cela vous permettra\, par la suite\, d’intégrer ces réseaux sociaux à votre stratégie marketing pour d’atteindre vos objectifs : \n\nAvantages et opportunités d’une présence sur Facebook et Instagram\nSe lancer sur ces réseaux sociaux : présence organique VS présence publicitaire\nDécouverte de la plateforme publicitaire de Meta : les prérequis pour lancer une campagne (définition des objectifs et KPIs).\n\nVous rencontrez des problèmes pour vous inscrire ? Alors\, Contactez-nous ! \nInscription
URL:https://www.cpme93.fr/evenement/les-fondamentaux-pour-maitriser-lunivers-meta-facebook-instagram/
LOCATION:CPME 93\, 97 Rue du 11 Novembre\, Neuilly-sur-Marne\, Seine Saint-Denis\, 93330\, France
CATEGORIES:Divers
ATTACH;FMTTYPE=image/jpeg:https://www.cpme93.fr/wp-content/uploads/2021/04/image012.jpg
ORGANIZER;CN="CPME 93":MAILTO:contact@cpme93.fr
GEO:48.8642588;2.5258684
X-APPLE-STRUCTURED-LOCATION;VALUE=URI;X-ADDRESS=CPME 93 97 Rue du 11 Novembre Neuilly-sur-Marne Seine Saint-Denis 93330 France;X-APPLE-RADIUS=500;X-TITLE=97 Rue du 11 Novembre:geo:2.5258684,48.8642588
END:VEVENT
BEGIN:VEVENT
DTSTART;TZID=UTC:20230406T110000
DTEND;TZID=UTC:20230406T120000
DTSTAMP:20260419T200445
CREATED:20230214T104944Z
LAST-MODIFIED:20230214T104944Z
UID:10000812-1680778800-1680782400@www.cpme93.fr
SUMMARY:Marque Employeur : solution aux freins RH
DESCRIPTION:Marque employeur : comment la développer ?\nAvec 8\,8M d’offres d’emploi diffusées en 2022 selon Pôle Emploi\, il est de plus en plus difficile d’être visible et attrayant en tant qu’employeur. Nous entrons dans une ère inédite où les démissions et reconversions pullulent\, portées par une quête perpétuelle de sens\, flexibilité et bien-être des collaborateurs. Le rapport au travail a changé\, les rapports de force s’inversent\, l’individualisation grandit. Dans ce contexte RH challengeant\, comment attirer\, recruter et engager ses talents cibles ? \nAu programme du webinaire\nL’objectif de ce webinaire est de repartir avec une vision claire de ce qu’est la Marque Employeur : comment elle se décline\, quel est son utilité face aux enjeux RH et comment la mettre en place dans votre organisation. \n\nUn nouveau rapport au travail\nLa Marque Employeur\, quésako ?\n– Définition et PanoramaPourquoi est-elle devenue indispensable ?\n– A quels enjeux RH répond-elle ?\n– Quelles sont les parties prenantes concernées ? Qui doit porter le sujet ?\nUn vecteur de performance RH… et business !\n– Concrètement\, quels impacts sur l’organisation ? (réputation\, recrutement\, engagement…)\n– Comment les mesurer ? (KPI\, outils…)\n– Par où commencer ? Axes méthodologiques\nInspirations et Cas client\n– Tour d’horizon des marques employeurs influentes\n– REX : audit d’attractivité RH pour une PME\n– Conclusion et Q / A\n\nVous rencontrez des problèmes pour vous inscrire ? Alors\, Contactez-nous ! \n\nInscription
URL:https://www.cpme93.fr/evenement/marque-employeur-solution-aux-freins-rh/
LOCATION:Seine Saint-Denis
CATEGORIES:Divers
ATTACH;FMTTYPE=image/jpeg:https://www.cpme93.fr/wp-content/uploads/2021/04/image012.jpg
ORGANIZER;CN="CPME 93":MAILTO:contact@cpme93.fr
END:VEVENT
BEGIN:VEVENT
DTSTART;TZID=UTC:20230406T183000
DTEND;TZID=UTC:20230406T233000
DTSTAMP:20260419T200445
CREATED:20230328T135455Z
LAST-MODIFIED:20230328T135655Z
UID:10000816-1680805800-1680823800@www.cpme93.fr
SUMMARY:Afterwork Business CPME93 et CPME94
DESCRIPTION:En présence des présidents des CPME93 et ​​​​94 \, Jean-Lou BLACHIER et Alain MARTINTEZ\,  nos experts métiers répondent à vos questions sur les problématiques actuelles. \nDès à présent\, réservez votre soirée pour allier business et convivialité. \n  \nJE SOUHAITE M’INSCRIRE
URL:https://www.cpme93.fr/evenement/afterwork-business-cpme93-et-cpme94/
LOCATION:Oggi\, 21 bis rue de villeneuve\, Rungis\, 94150\, France
CATEGORIES:Divers
ATTACH;FMTTYPE=image/jpeg:https://www.cpme93.fr/wp-content/uploads/2023/03/2a59b6ec-613a-ef6b-d3d6-0596aa591ffe.jpg
ORGANIZER;CN="CPME 93":MAILTO:contact@cpme93.fr
END:VEVENT
BEGIN:VEVENT
DTSTART;VALUE=DATE:20230418
DTEND;VALUE=DATE:20230419
DTSTAMP:20260419T200445
CREATED:20230411T130526Z
LAST-MODIFIED:20230411T132050Z
UID:10000819-1681776000-1681862399@www.cpme93.fr
SUMMARY:Afterwork - Novotel
DESCRIPTION:vperrin-terrin@cpme93.fr
URL:https://www.cpme93.fr/evenement/afterwork-novotel/
LOCATION:Novotel\, 2 All. Bienvenue\, Noisy-le-Grand\, 93160\, France
CATEGORIES:Divers
ATTACH;FMTTYPE=image/jpeg:https://www.cpme93.fr/wp-content/uploads/2021/09/Speed-meeting-cpme03.jpg
ORGANIZER;CN="CPME 93":MAILTO:contact@cpme93.fr
END:VEVENT
BEGIN:VEVENT
DTSTART;TZID=UTC:20230419T090000
DTEND;TZID=UTC:20230419T120000
DTSTAMP:20260419T200445
CREATED:20230417T080606Z
LAST-MODIFIED:20230417T080709Z
UID:10000821-1681894800-1681905600@www.cpme93.fr
SUMMARY:Atelier : les fondamentaux de l'entrepreneur en droit social
DESCRIPTION:Les thématiques abordent les principales questions que l’entrepreneur et son RH se posent en droit social aux différents stades de la vie l’entreprise\, à savoir : \nPARTIE 1 : Mise en place de la relation de travail (1h30) \n\nQuelles règles s’appliquent à mon entreprise ? Suis-je concerné(e) par une convention collective ?\nQuel contenu pour mes contrats de travail ? (CDD ou CDI ? clauses importantes\, focus lieu de travail\, durée du travail\, rémunération\, télétravail)\nComment protéger mon entreprise (non concurrence\, confidentialité…) ?\nComment aménager le temps de travail pour garantir la flexibilité dont mon entreprise a besoin ?\nComment fidéliser mes collaborateurs (primes\, intéressement\, retraite supplémentaire\, prime de partage de la valeur…)\nDois-je mettre en place une « mutuelle » et comment ? (actes à préparer\, spécificités cadres)\n\nPARTIE 2 : Exécution de la relation de travail (1h30) \n\nDois-je organiser des élections de mise en place d’un CSE ? (seuils\, synthèse modalités)\nQu’est-ce que le document unique d’évaluation des risques ? (contenu\, sanction\, modalités)\nQuels sont les affichages obligatoires ? (contenu\, sanction\, modalités)\nDéclarations diverses à réaliser (à l’embauche\, pendant l’exécution du contrat et à l’issue de la relation de travail) ?\nComment gérer la discipline ? Dois-je rédiger un règlement intérieur ? quand et comment ? (Modalités d’élaboration\, savoir aborder une sanction\, une rupture de contrat et l’absentéisme au travail)\nComment optimiser la rupture du contrat de travail ?\n\nCet atelier est l’occasion d’identifier des points de vigilance et les réflexes à adopter dans votre pratique professionnelle du droit social. Elle est construite autour de mises en situation rapide (jeux de rôle\, cas pratiques\, quizz/QR de synthèse pour identifier les enjeux et les solutions). \nAtelier en présentiel à la CPME Paris île de France – 19 Rue de l’Amiral d’Estaing\, 75016 Paris \n– Atelier réservé à nos adhérents – \n\nVous rencontrez des problèmes pour vous inscrire ? Alors\, Contactez-nous ! \nInscription
URL:https://www.cpme93.fr/evenement/atelier-les-fondamentaux-de-lentrepreneur-en-droit-social/
LOCATION:CPME Paris ile de France\, 19 Rue de l’Amiral d’Estaing\, Paris\, 75016
CATEGORIES:Atelier
ATTACH;FMTTYPE=image/jpeg:https://www.cpme93.fr/wp-content/uploads/2023/04/20230419_entrepreneur_droit_social22-1024x640-1.jpg
ORGANIZER;CN="CPME 93":MAILTO:contact@cpme93.fr
END:VEVENT
END:VCALENDAR