BEGIN:VCALENDAR
VERSION:2.0
PRODID:-//CPME93 - ECPv6.12.0.1//NONSGML v1.0//EN
CALSCALE:GREGORIAN
METHOD:PUBLISH
X-WR-CALNAME:CPME93
X-ORIGINAL-URL:https://www.cpme93.fr
X-WR-CALDESC:Évènements pour CPME93
REFRESH-INTERVAL;VALUE=DURATION:PT1H
X-Robots-Tag:noindex
X-PUBLISHED-TTL:PT1H
BEGIN:VTIMEZONE
TZID:Europe/Paris
BEGIN:DAYLIGHT
TZOFFSETFROM:+0100
TZOFFSETTO:+0200
TZNAME:CEST
DTSTART:20190331T010000
END:DAYLIGHT
BEGIN:STANDARD
TZOFFSETFROM:+0200
TZOFFSETTO:+0100
TZNAME:CET
DTSTART:20191027T010000
END:STANDARD
END:VTIMEZONE
BEGIN:VEVENT
DTSTART;TZID=Europe/Paris:20190604T193000
DTEND;TZID=Europe/Paris:20190604T223000
DTSTAMP:20260426T055821
CREATED:20190515T142836Z
LAST-MODIFIED:20190515T142836Z
UID:10000768-1559676600-1559687400@www.cpme93.fr
SUMMARY:Les rdv de l’EAF - Soirée de rencontres des femmes chef d’entreprise
DESCRIPTION:Soirée et diner sur le thème \nConcentrer son énergie\, la performance dans le zen et la plénitude \nDe 19h45 à 22h30 sur inscription uniquement auprès de  \nhttps://www.weezevent.com/soiree-eaf-la-performance-dans-la-plenitude
URL:https://www.cpme93.fr/evenement/les-rdv-de-leaf-soiree-de-rencontres-des-femmes-chef-dentreprise/
LOCATION:Lady Concept\, 5 rue Séverine\, AULNAY SOUS BOIS\, 93600\, France
CATEGORIES:Divers
ATTACH;FMTTYPE=image/jpeg:https://www.cpme93.fr/wp-content/uploads/2019/05/affiche_465001.thumb53700.1557835347.jpg
ORGANIZER;CN="CPME 93":MAILTO:contact@cpme93.fr
END:VEVENT
BEGIN:VEVENT
DTSTART;VALUE=DATE:20190606
DTEND;VALUE=DATE:20190607
DTSTAMP:20260426T055821
CREATED:20190515T143155Z
LAST-MODIFIED:20190515T143155Z
UID:10000769-1559779200-1559865599@www.cpme93.fr
SUMMARY:6éme trophées de l’Entrepreneuriat Au  Féminin
DESCRIPTION:Cette cérémonie est l’occasion de valoriser les talents de femmes entrepreneures quels que soient les métiers\, la nature de leur activité ou leur histoire. De magnifiques parcours sont exposés. \n​ \nCette soirée sera suivie d’un cocktail durant lequel les invités peuvent échanger avec les nominées et lauréates à propos de leur aventure entrepreneuriale et de leurs projets professionnels. \nInscription obligatoire auprès de vperrin-terrin@cpme93.fr
URL:https://www.cpme93.fr/evenement/6eme-trophees-de-lentrepreneuriat-au-feminin/
LOCATION:FFB\, 9 rue la Perouse\, Paris\, 75016\, France
CATEGORIES:Divers
ATTACH;FMTTYPE=image/jpeg:https://www.cpme93.fr/wp-content/uploads/2019/05/bcbe6e_046c526a84cf41fbbae8c22ee150e43c_mv2.jpg
ORGANIZER;CN="CPME 93":MAILTO:contact@cpme93.fr
END:VEVENT
BEGIN:VEVENT
DTSTART;TZID=Europe/Paris:20190607T090000
DTEND;TZID=Europe/Paris:20190607T123000
DTSTAMP:20260426T055821
CREATED:20190515T143247Z
LAST-MODIFIED:20190515T143247Z
UID:10000770-1559898000-1559910600@www.cpme93.fr
SUMMARY:Matinée juridique - Spécial droit des entreprises
DESCRIPTION:Prenez rdv pour une consultation gratuite avec nos avocats \nDe 9h00 à 12h30 sur rendez-vous uniquement\nauprès de  contact@cpme93.fr
URL:https://www.cpme93.fr/evenement/matinee-juridique-special-droit-des-entreprises-2/
LOCATION:CPME 93\, 97 Rue du 11 Novembre\, Neuilly-sur-Marne\, Seine Saint-Denis\, 93330\, France
CATEGORIES:Permance juridique
ATTACH;FMTTYPE=image/jpeg:https://www.cpme93.fr/wp-content/uploads/2018/06/6957910lpw-6959758-article-justice-avocat-et-client-se-serrant-la-main-jpg_4078290_660x281.jpg
ORGANIZER;CN="CPME 93":MAILTO:contact@cpme93.fr
GEO:48.8642588;2.5258684
X-APPLE-STRUCTURED-LOCATION;VALUE=URI;X-ADDRESS=CPME 93 97 Rue du 11 Novembre Neuilly-sur-Marne Seine Saint-Denis 93330 France;X-APPLE-RADIUS=500;X-TITLE=97 Rue du 11 Novembre:geo:2.5258684,48.8642588
END:VEVENT
BEGIN:VEVENT
DTSTART;VALUE=DATE:20190614
DTEND;VALUE=DATE:20190615
DTSTAMP:20260426T055821
CREATED:20190515T143336Z
LAST-MODIFIED:20190515T143336Z
UID:10000771-1560470400-1560556799@www.cpme93.fr
SUMMARY:Permanence RH
DESCRIPTION:Vous avez besoin de réponses concrètes en matière de RH pour répondre aux demandes de vos salariés ?  \nVous souhaitez recruter mais vous êtes insuffisamment outillés  ? Cela vous demande un investissement supplémentaire en termes de moyen\, de temps ou d’information ? \n La permanence RH permet de bénéficier d’un premier niveau de conseils sur les questions de gestion des ressources humaines.  \nParce qu’une gestion RH bien maîtrisée assure le bon développement de votre société.  \n  \nInscription obligatoire auprès de contact@cpme93.fr
URL:https://www.cpme93.fr/evenement/permanence-rh-2/
LOCATION:CPME 93\, 97 Rue du 11 Novembre\, Neuilly-sur-Marne\, Seine Saint-Denis\, 93330\, France
CATEGORIES:Divers
ATTACH;FMTTYPE=image/jpeg:https://www.cpme93.fr/wp-content/uploads/2019/05/thomas-drouault-793767-unsplash.jpg
ORGANIZER;CN="CPME 93":MAILTO:contact@cpme93.fr
GEO:48.8642588;2.5258684
X-APPLE-STRUCTURED-LOCATION;VALUE=URI;X-ADDRESS=CPME 93 97 Rue du 11 Novembre Neuilly-sur-Marne Seine Saint-Denis 93330 France;X-APPLE-RADIUS=500;X-TITLE=97 Rue du 11 Novembre:geo:2.5258684,48.8642588
END:VEVENT
BEGIN:VEVENT
DTSTART;TZID=Europe/Paris:20190620T090000
DTEND;TZID=Europe/Paris:20190620T110000
DTSTAMP:20260426T055821
CREATED:20190515T143533Z
LAST-MODIFIED:20190515T143533Z
UID:10000772-1561021200-1561028400@www.cpme93.fr
SUMMARY:La mise en place de la gestion électronique de documents enfin accessible pour les TPE/PME
DESCRIPTION:Nous développerons les avantages de la GED  \nSécuriser l’accès aux documents (RGPD)\, ainsi que le stockage\, \nMettre à jour vos documents qui profitent à tous\, chacun détient les mêmes informations en temps réel\, \nContrôler vos documents qui ne circulent plus\, ne se perdent plus\, personne n’attend son tour pour les consulter\, \nAugmenter de 20% l’efficacité / productivité de travail de votre entreprise\, \nRéduire des coûts de 30% liés à la recherche de documents\, \nRéduire les coûts de 80% liés à la diffusion\, \nDiminuer considérablement la gestion du courrier \nOptimiser vos relations avec les services publics\, les services RH\, les achats  \nNous répondrons à vos questions pour vérifier la faisabilité et le cout pour votre entreprise  \nUn rdv de test dans votre service administrative et comptable  pourra prolonger la matinée  \n  \nDe 9h00 à 11h00 sur inscription auprès de  contact@cpme93.fr
URL:https://www.cpme93.fr/evenement/la-mise-en-place-de-la-gestion-electronique-de-documents-enfin-accessible-pour-les-tpe-pme/
LOCATION:CPME 93\, 97 Rue du 11 Novembre\, Neuilly-sur-Marne\, Seine Saint-Denis\, 93330\, France
CATEGORIES:Divers
ATTACH;FMTTYPE=image/jpeg:https://www.cpme93.fr/wp-content/uploads/2019/05/homme-présentant-tablette-numérique.jpg
ORGANIZER;CN="CPME 93":MAILTO:contact@cpme93.fr
GEO:48.8642588;2.5258684
X-APPLE-STRUCTURED-LOCATION;VALUE=URI;X-ADDRESS=CPME 93 97 Rue du 11 Novembre Neuilly-sur-Marne Seine Saint-Denis 93330 France;X-APPLE-RADIUS=500;X-TITLE=97 Rue du 11 Novembre:geo:2.5258684,48.8642588
END:VEVENT
BEGIN:VEVENT
DTSTART;TZID=Europe/Paris:20190625T090000
DTEND;TZID=Europe/Paris:20190625T103000
DTSTAMP:20260426T055821
CREATED:20190515T143633Z
LAST-MODIFIED:20190515T143633Z
UID:10000774-1561453200-1561458600@www.cpme93.fr
SUMMARY:CLUB EXCELLENCE PME - La gestion de l’inaptitude des salariés
DESCRIPTION:Inscription obligatoire auprès de contact@cpme93.fr \nDe 9h00 à 10h30
URL:https://www.cpme93.fr/evenement/club-excellence-pme-la-gestion-de-linaptitude-des-salaries/
LOCATION:CPME 93\, 97 Rue du 11 Novembre\, Neuilly-sur-Marne\, Seine Saint-Denis\, 93330\, France
CATEGORIES:Club excellence
ATTACH;FMTTYPE=image/jpeg:https://www.cpme93.fr/wp-content/uploads/2018/02/unnamed-2.jpg
ORGANIZER;CN="CPME 93":MAILTO:contact@cpme93.fr
GEO:48.8642588;2.5258684
X-APPLE-STRUCTURED-LOCATION;VALUE=URI;X-ADDRESS=CPME 93 97 Rue du 11 Novembre Neuilly-sur-Marne Seine Saint-Denis 93330 France;X-APPLE-RADIUS=500;X-TITLE=97 Rue du 11 Novembre:geo:2.5258684,48.8642588
END:VEVENT
BEGIN:VEVENT
DTSTART;TZID=Europe/Paris:20190625T090000
DTEND;TZID=Europe/Paris:20190626T180000
DTSTAMP:20260426T055821
CREATED:20190408T132015Z
LAST-MODIFIED:20190626T122233Z
UID:10000680-1561453200-1561572000@www.cpme93.fr
SUMMARY:Formation obligatoire de  Sauveteur Secouriste du Travail (SST) offerte à tous les adhérents
DESCRIPTION:Formation offerte à tous les adhérents CPM393\n\nÁ qui est destinée cette formation et quels sont ses objectifs ?\nTout salarié peut devenir sauveteur secouriste du travail sans pré requis particulier. Elle permet de : \n\nmaîtriser la conduite à tenir et les gestes de premiers secours (mettre en sécurité la personne accidentée\, réagir face à un saignement ou un étouffement\, utiliser un défibrillateur…)\,\nsavoir qui et comment alerter dans l’entreprise ou à l’extérieur de l’entreprise\,\nrepérer les situations dangereuses dans son entreprise et savoir à qui et comment relayer ces informations dans l’entreprise\,\nparticiper éventuellement à la mise en œuvre d’actions de prévention et de protection.\n\n\nQu’obtient le salarié avec cette formation ?\nLa réussite aux évaluations mises en œuvre pendant cette formation permet d’obtenir le certificat de sauveteur secouriste du travail.\nCe certificat est valable 24 mois au niveau national. Il est délivré par le réseau Assurance maladie Risques professionnels / INRS.\nCette formation est régie par un ensemble de dispositions (modalités de mise en œuvre\, référentiels\, documents administratifs…). Ces dispositions sont formalisées dans le document de référence du dispositif global de formation sauvetage secourisme du travail. \n\nQui dispense cette formation et son recyclage ?\nElles sont dispensées par un formateur SST certifié par le réseau Assurance maladie risques professionnels / l’INRS.\nCe formateur appartient à un organisme de formation habilité \n\nComment se passe cette formation ?\nLa formation au sauvetage secourisme du travail a une durée de 14 heures (2 jours).\nLe coût de cette formation est assurée par la CPME93 si vous êtes adhérent\, à jour de cotisation. \n\nComment maintenir et actualiser ses compétences ?\nTous les 2 ans (24 mois de date à date)\, une mise à niveau des compétences SST est nécessaire.\nCe recyclage est organisé sur une durée de 7 heures\, où les compétences du salarié sont de nouveau évaluées.\nIl permet d’actualiser et de maintenir ses compétences de SST pour une nouvelle durée de 24 mois. \n  \nVous souhaitez vous inscrire ou inscrire un salarié ?\nContactez Marie Claire DEHOUMON : par mail ou au 01 43 08 25 31
URL:https://www.cpme93.fr/evenement/formation-obligatoire-de-sauveteur-secouriste-du-travail-sst-offerte-a-tous-les-adherents/
LOCATION:CPME 93\, 97 Rue du 11 Novembre\, Neuilly-sur-Marne\, Seine Saint-Denis\, 93330\, France
CATEGORIES:Formation
ATTACH;FMTTYPE=image/jpeg:https://www.cpme93.fr/wp-content/uploads/2019/04/salarie-sauveteur-secouriste-travail-2014-006-053.jpg
ORGANIZER;CN="CPME 93":MAILTO:contact@cpme93.fr
GEO:48.8642588;2.5258684
X-APPLE-STRUCTURED-LOCATION;VALUE=URI;X-ADDRESS=CPME 93 97 Rue du 11 Novembre Neuilly-sur-Marne Seine Saint-Denis 93330 France;X-APPLE-RADIUS=500;X-TITLE=97 Rue du 11 Novembre:geo:2.5258684,48.8642588
END:VEVENT
END:VCALENDAR