BEGIN:VCALENDAR
VERSION:2.0
PRODID:-//CPME93 - ECPv6.12.0.1//NONSGML v1.0//EN
CALSCALE:GREGORIAN
METHOD:PUBLISH
X-ORIGINAL-URL:https://www.cpme93.fr
X-WR-CALDESC:Évènements pour CPME93
REFRESH-INTERVAL;VALUE=DURATION:PT1H
X-Robots-Tag:noindex
X-PUBLISHED-TTL:PT1H
BEGIN:VTIMEZONE
TZID:Europe/Paris
BEGIN:DAYLIGHT
TZOFFSETFROM:+0100
TZOFFSETTO:+0200
TZNAME:CEST
DTSTART:20190331T010000
END:DAYLIGHT
BEGIN:STANDARD
TZOFFSETFROM:+0200
TZOFFSETTO:+0100
TZNAME:CET
DTSTART:20191027T010000
END:STANDARD
END:VTIMEZONE
BEGIN:VEVENT
DTSTART;TZID=Europe/Paris:20190301T090000
DTEND;TZID=Europe/Paris:20190301T123000
DTSTAMP:20260425T204143
CREATED:20190131T102859Z
LAST-MODIFIED:20190131T102859Z
UID:10000761-1551430800-1551443400@www.cpme93.fr
SUMMARY:Permanence juridique - Spécial droit des entreprises
DESCRIPTION:Prenez rdv pour une consultation gratuite avec nos avocats \nDe 9h00 à 12h30 sur rendez-vous uniquement\nauprès de  contact@cpme93.fr
URL:https://www.cpme93.fr/evenement/permanence-juridique-special-droit-des-entreprises-2/
LOCATION:CPME 93\, 97 Rue du 11 Novembre\, Neuilly-sur-Marne\, Seine Saint-Denis\, 93330\, France
CATEGORIES:Permance juridique
ATTACH;FMTTYPE=image/jpeg:https://www.cpme93.fr/wp-content/uploads/2018/06/6957910lpw-6959758-article-justice-avocat-et-client-se-serrant-la-main-jpg_4078290_660x281.jpg
ORGANIZER;CN="CPME 93":MAILTO:contact@cpme93.fr
GEO:48.8642588;2.5258684
X-APPLE-STRUCTURED-LOCATION;VALUE=URI;X-ADDRESS=CPME 93 97 Rue du 11 Novembre Neuilly-sur-Marne Seine Saint-Denis 93330 France;X-APPLE-RADIUS=500;X-TITLE=97 Rue du 11 Novembre:geo:2.5258684,48.8642588
END:VEVENT
BEGIN:VEVENT
DTSTART;TZID=Europe/Paris:20190305T090000
DTEND;TZID=Europe/Paris:20190305T183000
DTSTAMP:20260425T204143
CREATED:20190131T103617Z
LAST-MODIFIED:20190131T103812Z
UID:10000762-1551776400-1551810600@www.cpme93.fr
SUMMARY:Trophées des femmes en Entreprise Adaptée
DESCRIPTION:LA CPME 93 et Handiréseau \nsouhaitent promouvoir la professionnalisation et l’égalité femme-homme en EA et soutiennent les directions achats et les missions handicap dans leurs pratiques responsables. \nEn 2019\, la situation des Femmes en situation de handicap est toujours fragile dans le secteur du travail ordinaire tout comme dans le secteur du travail protégé. \n  \nAvec ces Trophées\, des personnes au parcours exceptionnel sont récompensées. \nConférences\, ateliers\, networking…programme sur demande \nDe 9h00 à 18h30 sur inscription obligatoire auprès de\n \n  \nInscriptions
URL:https://www.cpme93.fr/evenement/trophees-des-femmes-en-entreprise-adaptee/
LOCATION:Ministère des Finances\, 139 rue de Bercy\, Paris\, Ile-de-France\, 75012\, France
CATEGORIES:Divers
ATTACH;FMTTYPE=image/jpeg:https://www.cpme93.fr/wp-content/uploads/2019/01/woman-trophy.jpg
ORGANIZER;CN="CPME 93":MAILTO:contact@cpme93.fr
END:VEVENT
BEGIN:VEVENT
DTSTART;TZID=Europe/Paris:20190308T100000
DTEND;TZID=Europe/Paris:20190308T123000
DTSTAMP:20260425T204143
CREATED:20190131T103928Z
LAST-MODIFIED:20190131T103928Z
UID:10000763-1552039200-1552048200@www.cpme93.fr
SUMMARY:Assemblée Générale Ordinaire de la CPME 93
DESCRIPTION:Renseignements et inscriptions auprès de \nvperrin-terrin@cpme93.fr \n\nA 10H00
URL:https://www.cpme93.fr/evenement/assemblee-generale-ordinaire-de-la-cpme-93/
LOCATION:CPME 93\, 97 Rue du 11 Novembre\, Neuilly-sur-Marne\, Seine Saint-Denis\, 93330\, France
CATEGORIES:Divers
ATTACH;FMTTYPE=image/jpeg:https://www.cpme93.fr/wp-content/uploads/2017/10/cpmeNat-NB.jpg
ORGANIZER;CN="CPME 93":MAILTO:contact@cpme93.fr
GEO:48.8642588;2.5258684
X-APPLE-STRUCTURED-LOCATION;VALUE=URI;X-ADDRESS=CPME 93 97 Rue du 11 Novembre Neuilly-sur-Marne Seine Saint-Denis 93330 France;X-APPLE-RADIUS=500;X-TITLE=97 Rue du 11 Novembre:geo:2.5258684,48.8642588
END:VEVENT
BEGIN:VEVENT
DTSTART;TZID=Europe/Paris:20190312T093000
DTEND;TZID=Europe/Paris:20190312T180000
DTSTAMP:20260425T204143
CREATED:20190305T152550Z
LAST-MODIFIED:20190305T152550Z
UID:10000668-1552383000-1552413600@www.cpme93.fr
SUMMARY:BREXIT\, Préparez-vous aux conséquences pour votre entreprise !
DESCRIPTION:BREXIT / ACCÉLÉRATION DES PRÉPARATIFS \nADAPTEZ ET PRÉSERVEZ VOS ÉCHANGES AVEC\nLE ROYAUME-UNI ! \n  \nVous avez des clients ou des fournisseurs au Royaume-Uni ?\nVous y avez une filiale ou des salariés ? Vous y transportez des biens ou des personnes ? \nQuelles que soient les conditions du retrait du Royaume-Uni de l’Union européenne (avec ou sans accord)\, votre entreprise doit s’y préparer ! \n  \nMardi 12 mars 2019\nde 9h30 à 18h00\nà la CCI Seine-Saint-Denis \nAu programme  \n9h30 – 13h00 > Atelier \n\n\nRappel des enjeux commerciaux et d’investissement\n\n\nBilan des négociations; plan français\n\n\nMieux anticiper les effets douaniers du Brexit\n\n\nConséquences du Brexit sur les aspects TVA et fiscalité des entreprises et sur la gestion sociale des salariés\n\n\nCadre juridique des contrats commerciaux\n\n\nConséquences du Brexit sur les droits de la Propriété Industrielle\n\n\nTémoignage d’entreprise\n\n\n14h00 – 18h00 > Entretiens individuels \n\nDouanes\nINPI\nJuridique : contrats\nJuridique : fiscalité et RH\n\n  \nInscriptions\n  \n 
URL:https://www.cpme93.fr/evenement/brexit-preparez-vous-aux-consequences-pour-votre-entreprise/
LOCATION:CCI Seine-Saint-Denis\, 191 avenue Paul Vaillant Couturier\, Bobigny\, 93000\, France
CATEGORIES:Formation
ATTACH;FMTTYPE=image/jpeg:https://www.cpme93.fr/wp-content/uploads/2019/03/illustration-brexit.jpg
END:VEVENT
BEGIN:VEVENT
DTSTART;TZID=Europe/Paris:20190319T083000
DTEND;TZID=Europe/Paris:20190319T103000
DTSTAMP:20260425T204143
CREATED:20190131T104352Z
LAST-MODIFIED:20190131T104352Z
UID:10000764-1552984200-1552991400@www.cpme93.fr
SUMMARY:Club Excellence PME
DESCRIPTION:« Pitch elevator » ou l’art de se présenter \nInscription obligatoire auprès de contact@cpme93.fr \nDe 8h30 à 10h30
URL:https://www.cpme93.fr/evenement/club-excellence-pme/
LOCATION:Service Économique\, 2 avenue Dumont\, Aulnay sous Bois\, France
CATEGORIES:Club excellence
ATTACH;FMTTYPE=image/jpeg:https://www.cpme93.fr/wp-content/uploads/2019/01/pitch.jpg
ORGANIZER;CN="CPME 93":MAILTO:contact@cpme93.fr
END:VEVENT
BEGIN:VEVENT
DTSTART;TZID=Europe/Paris:20190320T090000
DTEND;TZID=Europe/Paris:20190320T103000
DTSTAMP:20260425T204143
CREATED:20190131T104840Z
LAST-MODIFIED:20190131T104840Z
UID:10000665-1553072400-1553077800@www.cpme93.fr
SUMMARY:Club Excellence PME
DESCRIPTION:La place du notaire aux côté du dirigeant \nTransmission\, réflexion sur sa situation patrimoniale\, protection au sein du couple\, retraite …Les notaires répondent à vos questions et vous éclairent sur les solutions pour les dirigeants autour d’un pdj \nInscription obligatoire auprès de contact@cpme93.fr \nDe 9h00 à 10h30 \nDes consultations vous seront offertes
URL:https://www.cpme93.fr/evenement/club-excellence-pme-2/
LOCATION:CCI Seine-Saint-Denis\, 191 avenue Paul Vaillant Couturier\, Bobigny\, 93000\, France
CATEGORIES:Club excellence
ATTACH;FMTTYPE=image/jpeg:https://www.cpme93.fr/wp-content/uploads/2018/03/unnamed.jpg
ORGANIZER;CN="CPME 93":MAILTO:contact@cpme93.fr
END:VEVENT
END:VCALENDAR