BEGIN:VCALENDAR
VERSION:2.0
PRODID:-//CPME93 - ECPv6.12.0.1//NONSGML v1.0//EN
CALSCALE:GREGORIAN
METHOD:PUBLISH
X-ORIGINAL-URL:https://www.cpme93.fr
X-WR-CALDESC:Évènements pour CPME93
REFRESH-INTERVAL;VALUE=DURATION:PT1H
X-Robots-Tag:noindex
X-PUBLISHED-TTL:PT1H
BEGIN:VTIMEZONE
TZID:UTC
BEGIN:STANDARD
TZOFFSETFROM:+0000
TZOFFSETTO:+0000
TZNAME:UTC
DTSTART:20230101T000000
END:STANDARD
END:VTIMEZONE
BEGIN:VTIMEZONE
TZID:Europe/Paris
BEGIN:DAYLIGHT
TZOFFSETFROM:+0100
TZOFFSETTO:+0200
TZNAME:CEST
DTSTART:20230326T010000
END:DAYLIGHT
BEGIN:STANDARD
TZOFFSETFROM:+0200
TZOFFSETTO:+0100
TZNAME:CET
DTSTART:20231029T010000
END:STANDARD
END:VTIMEZONE
BEGIN:VEVENT
DTSTART;TZID=UTC:20231107T080000
DTEND;TZID=UTC:20231107T170000
DTSTAMP:20260419T141425
CREATED:20230424T091314Z
LAST-MODIFIED:20230503T081048Z
UID:10000929-1699344000-1699376400@www.cpme93.fr
SUMMARY:Maintien Actualisation des Compétences Sauveteur Secouriste du Travail
DESCRIPTION:Chers adhérents\, \nLa CPME 93 vous propose des dates de formation pour vous permettre ainsi qu’à vos équipes ayant déjà effectué la formation initiale de Sauveteur secouriste du travail d’actualiser vos connaissances (obligatoire tous les 2 ans). \n  \nLes formations  » Maintien Actualisation des Compétences Sauveteur Secouriste du Travail  » (MAC SST) se tiendront dans les locaux de la CPME93 \n97 Rue du 11 Novembre – 93330 Neuilly sur Marne \nde 09H00 à 12H00 et de 13H00 à 17H00 \n  \nCette formation est un recyclage. \nL’inscription est conditionnées à la production du justificatif de formation initiale ayant au plus 2 ans. \n  \nVeuillez trouver ci joint les différentes dates disponibles pour la formation SST de vos équipes: \nMardi 07 novembre 2023: Inscription avant le 09 OCTOBRE \nInscription
URL:https://www.cpme93.fr/evenement/2973/
LOCATION:CPME 93\, 97 Rue du 11 Novembre\, Neuilly-sur-Marne\, Seine Saint-Denis\, 93330\, France
CATEGORIES:Formation
ATTACH;FMTTYPE=image/jpeg:https://www.cpme93.fr/wp-content/uploads/2017/10/Fotolia_10990557_XS-e1507916832188.jpg
ORGANIZER;CN="CPME 93":MAILTO:contact@cpme93.fr
GEO:48.8642588;2.5258684
X-APPLE-STRUCTURED-LOCATION;VALUE=URI;X-ADDRESS=CPME 93 97 Rue du 11 Novembre Neuilly-sur-Marne Seine Saint-Denis 93330 France;X-APPLE-RADIUS=500;X-TITLE=97 Rue du 11 Novembre:geo:2.5258684,48.8642588
END:VEVENT
BEGIN:VEVENT
DTSTART;TZID=Europe/Paris:20231107T090000
DTEND;TZID=Europe/Paris:20231107T170000
DTSTAMP:20260419T141425
CREATED:20231012T130448Z
LAST-MODIFIED:20231012T130448Z
UID:10000950-1699347600-1699376400@www.cpme93.fr
SUMMARY:FORMATION GRATUITE  « Recyclage Sauveteur secouriste du travail »
DESCRIPTION:Le recyclage du sauveteur secouriste du travail doit être effectué dans les 24 mois qui suivent la formation initiale.  \nDe 9h à 17h  \nRenseignements et inscriptions auprès de MARIE Claire DEHOUMON  \ncontact@cpme93.fr
URL:https://www.cpme93.fr/evenement/formation-gratuite-recyclage-sauveteur-secouriste-du-travail/
LOCATION:CPME 93\, 97 Rue du 11 Novembre\, Neuilly-sur-Marne\, Seine Saint-Denis\, 93330\, France
CATEGORIES:Formation
ATTACH;FMTTYPE=image/jpeg:https://www.cpme93.fr/wp-content/uploads/2017/10/Fotolia_10990557_XS-e1507916832188.jpg
ORGANIZER;CN="CPME 93":MAILTO:contact@cpme93.fr
GEO:48.8642588;2.5258684
X-APPLE-STRUCTURED-LOCATION;VALUE=URI;X-ADDRESS=CPME 93 97 Rue du 11 Novembre Neuilly-sur-Marne Seine Saint-Denis 93330 France;X-APPLE-RADIUS=500;X-TITLE=97 Rue du 11 Novembre:geo:2.5258684,48.8642588
END:VEVENT
BEGIN:VEVENT
DTSTART;TZID=Europe/Paris:20231115T090000
DTEND;TZID=Europe/Paris:20231115T110000
DTSTAMP:20260419T141425
CREATED:20231012T140421Z
LAST-MODIFIED:20231012T140421Z
UID:10000953-1700038800-1700046000@www.cpme93.fr
SUMMARY:WEB ACADEMIE ATELIER  DIGITAL  Comment booster votre activité grâce au digital
DESCRIPTION:Booster votre visibilité sur internet/réseaux sociaux \nLe digital s’est accéléré dans les usages\, venez découvrir comment développer votre activité tout en fidélisant vos clients : \nDiversifier vos canaux de vente et fidéliser vos clients et vos salariés \nDe 9h à 11h \nInscription auprès de contact@cpme93.fr
URL:https://www.cpme93.fr/evenement/web-academie-atelier-digital-comment-booster-votre-activite-grace-au-digital/
LOCATION:CPME 93\, 97 Rue du 11 Novembre\, Neuilly-sur-Marne\, Seine Saint-Denis\, 93330\, France
CATEGORIES:Formation
ATTACH;FMTTYPE=image/webp:https://www.cpme93.fr/wp-content/uploads/2021/12/CPME-se-connaitre-entre-adherents.webp
ORGANIZER;CN="CPME 93":MAILTO:contact@cpme93.fr
GEO:48.8642588;2.5258684
X-APPLE-STRUCTURED-LOCATION;VALUE=URI;X-ADDRESS=CPME 93 97 Rue du 11 Novembre Neuilly-sur-Marne Seine Saint-Denis 93330 France;X-APPLE-RADIUS=500;X-TITLE=97 Rue du 11 Novembre:geo:2.5258684,48.8642588
END:VEVENT
END:VCALENDAR