BEGIN:VCALENDAR
VERSION:2.0
PRODID:-//CPME93 - ECPv6.12.0.1//NONSGML v1.0//EN
CALSCALE:GREGORIAN
METHOD:PUBLISH
X-WR-CALNAME:CPME93
X-ORIGINAL-URL:https://www.cpme93.fr
X-WR-CALDESC:Évènements pour CPME93
REFRESH-INTERVAL;VALUE=DURATION:PT1H
X-Robots-Tag:noindex
X-PUBLISHED-TTL:PT1H
BEGIN:VTIMEZONE
TZID:Europe/Paris
BEGIN:DAYLIGHT
TZOFFSETFROM:+0100
TZOFFSETTO:+0200
TZNAME:CEST
DTSTART:20180325T010000
END:DAYLIGHT
BEGIN:STANDARD
TZOFFSETFROM:+0200
TZOFFSETTO:+0100
TZNAME:CET
DTSTART:20181028T010000
END:STANDARD
END:VTIMEZONE
BEGIN:VEVENT
DTSTART;TZID=Europe/Paris:20181113T090000
DTEND;TZID=Europe/Paris:20181113T163000
DTSTAMP:20260420T235948
CREATED:20181023T121846Z
LAST-MODIFIED:20181023T125708Z
UID:10000654-1542099600-1542126600@www.cpme93.fr
SUMMARY:Journée « Portes ouvertes » à la CPME93
DESCRIPTION:Une journée pour découvrir les services et les mandataires\nDes rdv d’experts gratuits : avocats\, experts comptables\, assurance\, banque… \n3 conférences : \n\n9h30 les injonctions de payer : une solution pour les impayés\n10h30 La GSC (assurance chômage du dirigeant)\n14h15 les ordonnances Macron\, quels changements pour les employeurs ?\n\nUn cocktail business de 12h45 à 14h00 \n  \nTélécharger le bulletin d’inscription \n  \nProgramme détaillé de la journée \n09h – 09h30 Accueil \n09h45 – 10 h30 Conférence « Les injonctions de payer » ou comment obtenir à moindre frais un titre exécutoire du Tribunal pour contraindre votre débiteur à payer \n10h30 – 11 h15 Conférence « Comment limiter les risques d’entreprendre ». Venez découvrir les avantages de la garantie sociale du chef d’entreprise (GSC) ou assurance chômage du dirigeant \n11h15 – 12 h15 RDV d’experts (à prendre en ligne\, par mail ou téléphone) : Assurance – Banque\, Expert Comptable\, Avocat\, Conseiller Prud’homal – Juge du Tribunal de Commerce\, URSSAF\, Mutuelle…. \n12h15 Présentation de la CPME : Le Président Jean-Lou BLACHIER et la Secrétaire Générale\, Valérie PERRIN-TERRIN vous présenteront les actions et services d’aide aux PME et les m mandats \n12h 45 – 14 h 00 Cocktail : Échanges cartes de visite\, rencontre avec les mandataires \n14 h 15 – 15h15 Conférence « Les ordonnances MACRON »\, ce qui change pour l’employeur : Questions – Réponses \n15h15 – 16h15 Rendez-vous d’Experts (à prendre en ligne\, par mail ou téléphone) \n\nTélécharger le bulletin d’inscription
URL:https://www.cpme93.fr/evenement/journee-portes-ouvertes-a-la-cpme93/
LOCATION:CPME 93\, 97 Rue du 11 Novembre\, Neuilly-sur-Marne\, Seine Saint-Denis\, 93330\, France
CATEGORIES:Divers
ATTACH;FMTTYPE=image/jpeg:https://www.cpme93.fr/wp-content/uploads/2018/10/cpme.jpg
ORGANIZER;CN="CPME 93":MAILTO:contact@cpme93.fr
GEO:48.8642588;2.5258684
X-APPLE-STRUCTURED-LOCATION;VALUE=URI;X-ADDRESS=CPME 93 97 Rue du 11 Novembre Neuilly-sur-Marne Seine Saint-Denis 93330 France;X-APPLE-RADIUS=500;X-TITLE=97 Rue du 11 Novembre:geo:2.5258684,48.8642588
END:VEVENT
END:VCALENDAR