BEGIN:VCALENDAR
VERSION:2.0
PRODID:-//CPME93 - ECPv6.12.0.1//NONSGML v1.0//EN
CALSCALE:GREGORIAN
METHOD:PUBLISH
X-ORIGINAL-URL:https://www.cpme93.fr
X-WR-CALDESC:Évènements pour CPME93
REFRESH-INTERVAL;VALUE=DURATION:PT1H
X-Robots-Tag:noindex
X-PUBLISHED-TTL:PT1H
BEGIN:VTIMEZONE
TZID:Europe/Paris
BEGIN:DAYLIGHT
TZOFFSETFROM:+0100
TZOFFSETTO:+0200
TZNAME:CEST
DTSTART:20180325T010000
END:DAYLIGHT
BEGIN:STANDARD
TZOFFSETFROM:+0200
TZOFFSETTO:+0100
TZNAME:CET
DTSTART:20181028T010000
END:STANDARD
END:VTIMEZONE
BEGIN:VEVENT
DTSTART;TZID=Europe/Paris:20181213T090000
DTEND;TZID=Europe/Paris:20181213T120000
DTSTAMP:20260426T021242
CREATED:20181219T083923Z
LAST-MODIFIED:20181219T083923Z
UID:10000750-1544691600-1544702400@www.cpme93.fr
SUMMARY:Club Excellence PME - Le prélèvement à la source
DESCRIPTION:Comment expliquer à mes salariés le prélèvement à la source (PAS). \nDésamorcer les possibles frictions liées à ce passage \n  \nPrésentation de la réforme \nQuel impact dans mon entreprise \nCommuniquer auprès de mes salariés \nQuestions/réponses et échange de pratiques \nDe 9h00 à 12h00 sur inscription auprès de\ncontact@cpme93.fr
URL:https://www.cpme93.fr/evenement/club-excellence-pme-le-prelevement-a-la-source/
LOCATION:C2DI 93\, 10 avenue Jeanne d'Arc\, Aulnay sous Bois\, 93600\, France
CATEGORIES:Club excellence
ATTACH;FMTTYPE=image/jpeg:https://www.cpme93.fr/wp-content/uploads/2018/12/cpme-event-prelevement.jpg
ORGANIZER;CN="CPME 93":MAILTO:contact@cpme93.fr
END:VEVENT
END:VCALENDAR