BEGIN:VCALENDAR
VERSION:2.0
PRODID:-//CPME93 - ECPv6.12.0.1//NONSGML v1.0//EN
CALSCALE:GREGORIAN
METHOD:PUBLISH
X-WR-CALNAME:CPME93
X-ORIGINAL-URL:https://www.cpme93.fr
X-WR-CALDESC:Évènements pour CPME93
REFRESH-INTERVAL;VALUE=DURATION:PT1H
X-Robots-Tag:noindex
X-PUBLISHED-TTL:PT1H
BEGIN:VTIMEZONE
TZID:Europe/Paris
BEGIN:DAYLIGHT
TZOFFSETFROM:+0100
TZOFFSETTO:+0200
TZNAME:CEST
DTSTART:20190331T010000
END:DAYLIGHT
BEGIN:STANDARD
TZOFFSETFROM:+0200
TZOFFSETTO:+0100
TZNAME:CET
DTSTART:20191027T010000
END:STANDARD
END:VTIMEZONE
BEGIN:VEVENT
DTSTART;TZID=Europe/Paris:20190910T090000
DTEND;TZID=Europe/Paris:20190910T103000
DTSTAMP:20260420T020145
CREATED:20190718T084143Z
LAST-MODIFIED:20191127T144205Z
UID:10000793-1568106000-1568111400@www.cpme93.fr
SUMMARY:Club Excellence PME - Comment recruter efficacement
DESCRIPTION:Vous souhaitez recruter mais vous êtes insuffisamment outillés ? \n Cela vous demande un investissement supplémentaire en termes de moyen\, de temps ou d’information ? Vous ne savez pas où vous diriger\, comment mener un entretien\, tester les connaissances. \nCet atelier répondra à vos questions et vous donnera les bonnes pratiques. \nDe 9h 00 à 10h30 sur inscription \n  \nInscription
URL:https://www.cpme93.fr/evenement/club-excellence-pme-comment-recruter-efficacement/
LOCATION:CPME 93\, 97 Rue du 11 Novembre\, Neuilly-sur-Marne\, Seine Saint-Denis\, 93330\, France
CATEGORIES:Club excellence
ATTACH;FMTTYPE=image/jpeg:https://www.cpme93.fr/wp-content/uploads/2018/03/unnamed.jpg
ORGANIZER;CN="CPME 93":MAILTO:contact@cpme93.fr
GEO:48.8642588;2.5258684
X-APPLE-STRUCTURED-LOCATION;VALUE=URI;X-ADDRESS=CPME 93 97 Rue du 11 Novembre Neuilly-sur-Marne Seine Saint-Denis 93330 France;X-APPLE-RADIUS=500;X-TITLE=97 Rue du 11 Novembre:geo:2.5258684,48.8642588
END:VEVENT
BEGIN:VEVENT
DTSTART;TZID=Europe/Paris:20190910T090000
DTEND;TZID=Europe/Paris:20190910T113000
DTSTAMP:20260420T020145
CREATED:20190718T065435Z
LAST-MODIFIED:20190718T065435Z
UID:10000787-1568106000-1568115000@www.cpme93.fr
SUMMARY:Atelier Pratique Recrutement
DESCRIPTION:Inscription\n 
URL:https://www.cpme93.fr/evenement/atelier-pratique-recrutement-2/
LOCATION:CPME 93\, 97 Rue du 11 Novembre\, Neuilly-sur-Marne\, Seine Saint-Denis\, 93330\, France
CATEGORIES:Club excellence
ATTACH;FMTTYPE=image/jpeg:https://www.cpme93.fr/wp-content/uploads/2019/06/ezgif-1-448a975cd2f2.jpg
ORGANIZER;CN="CPME 93":MAILTO:contact@cpme93.fr
GEO:48.8642588;2.5258684
X-APPLE-STRUCTURED-LOCATION;VALUE=URI;X-ADDRESS=CPME 93 97 Rue du 11 Novembre Neuilly-sur-Marne Seine Saint-Denis 93330 France;X-APPLE-RADIUS=500;X-TITLE=97 Rue du 11 Novembre:geo:2.5258684,48.8642588
END:VEVENT
BEGIN:VEVENT
DTSTART;TZID=Europe/Paris:20190925T090000
DTEND;TZID=Europe/Paris:20190925T110000
DTSTAMP:20260420T020145
CREATED:20190718T074839Z
LAST-MODIFIED:20190718T092952Z
UID:10000790-1569402000-1569409200@www.cpme93.fr
SUMMARY:Club Excellence PME - Anticiper et gérer l’inaptitude des salariés
DESCRIPTION:Vous êtes nombreux à nous interroger sur les problèmes et la manière de gérer l’inaptitude de vos salariés. \nComment et par qui est reconnue l’inaptitude ? \nComment faire avec les visites médicales ? Les différents types de visites ? \nComment réagir face aux différents avis du médecin du travail ? \nPeut on contester l’avis du médecin du travail ? \nLorsque l’inaptitude est reconnue\, comment faire avec le reclassement du salarié ? \nQuelle est la procédure de licenciement dans ce cas ? \nComment éviter les problèmes de saisine Prud’homale relatives à l’absence de reclassement et le licenciement pour inaptitude physique ? \n\nNous évoquerons ces sujets et répondrons à vos questions avec le cabinet FIDAL lors d’une matinale \nle mercredi 25 septembre de 9h00 à 11h00 au siège de la CPME93 \n97 rue du 11 novembre- 93330 NEUILLY SUR MARNE \nInscription par mail \n  \nInscription
URL:https://www.cpme93.fr/evenement/club-excellence-pme-anticiper-et-gerer-linaptitude-des-salaries/
LOCATION:CPME 93\, 97 Rue du 11 Novembre\, Neuilly-sur-Marne\, Seine Saint-Denis\, 93330\, France
CATEGORIES:Club excellence
ATTACH;FMTTYPE=image/jpeg:https://www.cpme93.fr/wp-content/uploads/2018/03/unnamed.jpg
ORGANIZER;CN="CPME 93":MAILTO:contact@cpme93.fr
GEO:48.8642588;2.5258684
X-APPLE-STRUCTURED-LOCATION;VALUE=URI;X-ADDRESS=CPME 93 97 Rue du 11 Novembre Neuilly-sur-Marne Seine Saint-Denis 93330 France;X-APPLE-RADIUS=500;X-TITLE=97 Rue du 11 Novembre:geo:2.5258684,48.8642588
END:VEVENT
END:VCALENDAR