BEGIN:VCALENDAR
VERSION:2.0
PRODID:-//CPME93 - ECPv6.12.0.1//NONSGML v1.0//EN
CALSCALE:GREGORIAN
METHOD:PUBLISH
X-WR-CALNAME:CPME93
X-ORIGINAL-URL:https://www.cpme93.fr
X-WR-CALDESC:Évènements pour CPME93
REFRESH-INTERVAL;VALUE=DURATION:PT1H
X-Robots-Tag:noindex
X-PUBLISHED-TTL:PT1H
BEGIN:VTIMEZONE
TZID:Europe/Paris
BEGIN:DAYLIGHT
TZOFFSETFROM:+0100
TZOFFSETTO:+0200
TZNAME:CEST
DTSTART:20190331T010000
END:DAYLIGHT
BEGIN:STANDARD
TZOFFSETFROM:+0200
TZOFFSETTO:+0100
TZNAME:CET
DTSTART:20191027T010000
END:STANDARD
END:VTIMEZONE
BEGIN:VEVENT
DTSTART;TZID=Europe/Paris:20190710T090000
DTEND;TZID=Europe/Paris:20190710T113000
DTSTAMP:20260421T002623
CREATED:20190626T120821Z
LAST-MODIFIED:20190626T121126Z
UID:10000778-1562749200-1562758200@www.cpme93.fr
SUMMARY:Atelier Pratique Recrutement
DESCRIPTION:Vous souhaitez recruter des postes techniques\, cadres\, métiers en tensions …mais connaissez vous les bonnes pratiques ? \nCela vous demande un investissement supplémentaire en termes de moyen\, de temps ou d’information ? \nVous ne savez pas où vous diriger\, comment mener un entretien\, tester les connaissances… \nQuel job board choisir ou cabinet de recrutement ou agence d’intérim ? \nCet atelier répondra à vos questions et vous donnera les bonnes pratiques.\nInscription\n 
URL:https://www.cpme93.fr/evenement/atelier-pratique-recrutement/
LOCATION:CPME 93\, 97 Rue du 11 Novembre\, Neuilly-sur-Marne\, Seine Saint-Denis\, 93330\, France
CATEGORIES:Club excellence
ATTACH;FMTTYPE=image/jpeg:https://www.cpme93.fr/wp-content/uploads/2019/06/ezgif-1-448a975cd2f2.jpg
ORGANIZER;CN="CPME 93":MAILTO:contact@cpme93.fr
GEO:48.8642588;2.5258684
X-APPLE-STRUCTURED-LOCATION;VALUE=URI;X-ADDRESS=CPME 93 97 Rue du 11 Novembre Neuilly-sur-Marne Seine Saint-Denis 93330 France;X-APPLE-RADIUS=500;X-TITLE=97 Rue du 11 Novembre:geo:2.5258684,48.8642588
END:VEVENT
END:VCALENDAR