BEGIN:VCALENDAR
VERSION:2.0
PRODID:-//CPME93 - ECPv6.12.0.1//NONSGML v1.0//EN
CALSCALE:GREGORIAN
METHOD:PUBLISH
X-WR-CALNAME:CPME93
X-ORIGINAL-URL:https://www.cpme93.fr
X-WR-CALDESC:Évènements pour CPME93
REFRESH-INTERVAL;VALUE=DURATION:PT1H
X-Robots-Tag:noindex
X-PUBLISHED-TTL:PT1H
BEGIN:VTIMEZONE
TZID:Europe/Paris
BEGIN:DAYLIGHT
TZOFFSETFROM:+0100
TZOFFSETTO:+0200
TZNAME:CEST
DTSTART:20190331T010000
END:DAYLIGHT
BEGIN:STANDARD
TZOFFSETFROM:+0200
TZOFFSETTO:+0100
TZNAME:CET
DTSTART:20191027T010000
END:STANDARD
END:VTIMEZONE
BEGIN:VEVENT
DTSTART;TZID=Europe/Paris:20190521T090000
DTEND;TZID=Europe/Paris:20190521T103000
DTSTAMP:20260422T140312
CREATED:20190515T124250Z
LAST-MODIFIED:20190515T124250Z
UID:10000766-1558429200-1558434600@www.cpme93.fr
SUMMARY:CLUB EXCELLENCE PME - La protection du dirigeant
DESCRIPTION:La gestion d’une entreprise expose de plus en plus les dirigeants\nà être mis en cause personnellement pour faute professionnelle avec\ndes conséquences majeures sur leur patrimoine privé. \n\nPour éviter ces difficultés potentielles\, la CPME93 vous invite à une réunion d’information sur les solutions qui existent pour protéger\nles dirigeants et leur patrimoine. \n  \nInscription obligatoire auprès de contact@cpme93.fr \nDe 9h00 à 10h35
URL:https://www.cpme93.fr/evenement/club-excellence-pme-la-protection-du-dirigeant/
LOCATION:CPME 93\, 97 Rue du 11 Novembre\, Neuilly-sur-Marne\, Seine Saint-Denis\, 93330\, France
CATEGORIES:Club excellence
ATTACH;FMTTYPE=image/jpeg:https://www.cpme93.fr/wp-content/uploads/2018/03/unnamed.jpg
ORGANIZER;CN="CPME 93":MAILTO:contact@cpme93.fr
GEO:48.8642588;2.5258684
X-APPLE-STRUCTURED-LOCATION;VALUE=URI;X-ADDRESS=CPME 93 97 Rue du 11 Novembre Neuilly-sur-Marne Seine Saint-Denis 93330 France;X-APPLE-RADIUS=500;X-TITLE=97 Rue du 11 Novembre:geo:2.5258684,48.8642588
END:VEVENT
END:VCALENDAR