BEGIN:VCALENDAR
VERSION:2.0
PRODID:-//CPME93 - ECPv6.12.0.1//NONSGML v1.0//EN
CALSCALE:GREGORIAN
METHOD:PUBLISH
X-ORIGINAL-URL:https://www.cpme93.fr
X-WR-CALDESC:Évènements pour CPME93
REFRESH-INTERVAL;VALUE=DURATION:PT1H
X-Robots-Tag:noindex
X-PUBLISHED-TTL:PT1H
BEGIN:VTIMEZONE
TZID:Europe/Paris
BEGIN:DAYLIGHT
TZOFFSETFROM:+0100
TZOFFSETTO:+0200
TZNAME:CEST
DTSTART:20190331T010000
END:DAYLIGHT
BEGIN:STANDARD
TZOFFSETFROM:+0200
TZOFFSETTO:+0100
TZNAME:CET
DTSTART:20191027T010000
END:STANDARD
END:VTIMEZONE
BEGIN:VEVENT
DTSTART;TZID=Europe/Paris:20190319T083000
DTEND;TZID=Europe/Paris:20190319T103000
DTSTAMP:20260423T010525
CREATED:20190131T104352Z
LAST-MODIFIED:20190131T104352Z
UID:10000764-1552984200-1552991400@www.cpme93.fr
SUMMARY:Club Excellence PME
DESCRIPTION:« Pitch elevator » ou l’art de se présenter \nInscription obligatoire auprès de contact@cpme93.fr \nDe 8h30 à 10h30
URL:https://www.cpme93.fr/evenement/club-excellence-pme/
LOCATION:Service Économique\, 2 avenue Dumont\, Aulnay sous Bois\, France
CATEGORIES:Club excellence
ATTACH;FMTTYPE=image/jpeg:https://www.cpme93.fr/wp-content/uploads/2019/01/pitch.jpg
ORGANIZER;CN="CPME 93":MAILTO:contact@cpme93.fr
END:VEVENT
BEGIN:VEVENT
DTSTART;TZID=Europe/Paris:20190320T090000
DTEND;TZID=Europe/Paris:20190320T103000
DTSTAMP:20260423T010525
CREATED:20190131T104840Z
LAST-MODIFIED:20190131T104840Z
UID:10000665-1553072400-1553077800@www.cpme93.fr
SUMMARY:Club Excellence PME
DESCRIPTION:La place du notaire aux côté du dirigeant \nTransmission\, réflexion sur sa situation patrimoniale\, protection au sein du couple\, retraite …Les notaires répondent à vos questions et vous éclairent sur les solutions pour les dirigeants autour d’un pdj \nInscription obligatoire auprès de contact@cpme93.fr \nDe 9h00 à 10h30 \nDes consultations vous seront offertes
URL:https://www.cpme93.fr/evenement/club-excellence-pme-2/
LOCATION:CCI Seine-Saint-Denis\, 191 avenue Paul Vaillant Couturier\, Bobigny\, 93000\, France
CATEGORIES:Club excellence
ATTACH;FMTTYPE=image/jpeg:https://www.cpme93.fr/wp-content/uploads/2018/03/unnamed.jpg
ORGANIZER;CN="CPME 93":MAILTO:contact@cpme93.fr
END:VEVENT
END:VCALENDAR