BEGIN:VCALENDAR
VERSION:2.0
PRODID:-//CPME93 - ECPv6.12.0.1//NONSGML v1.0//EN
CALSCALE:GREGORIAN
METHOD:PUBLISH
X-ORIGINAL-URL:https://www.cpme93.fr
X-WR-CALDESC:Évènements pour CPME93
REFRESH-INTERVAL;VALUE=DURATION:PT1H
X-Robots-Tag:noindex
X-PUBLISHED-TTL:PT1H
BEGIN:VTIMEZONE
TZID:Europe/Paris
BEGIN:DAYLIGHT
TZOFFSETFROM:+0100
TZOFFSETTO:+0200
TZNAME:CEST
DTSTART:20190331T010000
END:DAYLIGHT
BEGIN:STANDARD
TZOFFSETFROM:+0200
TZOFFSETTO:+0100
TZNAME:CET
DTSTART:20191027T010000
END:STANDARD
END:VTIMEZONE
BEGIN:VEVENT
DTSTART;TZID=Europe/Paris:20190212T090000
DTEND;TZID=Europe/Paris:20190212T103000
DTSTAMP:20260424T021920
CREATED:20190118T115625Z
LAST-MODIFIED:20190118T115625Z
UID:10000758-1549962000-1549967400@www.cpme93.fr
SUMMARY:Club Excellence PME - Le bénéfice d’un recrutement réussi
DESCRIPTION:Vous êtes chef d’une entreprise de petite ou de moyenne taille et vous avez décidé de recruter. Vous avez de nombreux atouts à proposer aux candidats : potentiel d’évolution au sein de votre entreprise\, polyvalence du poste\, agir au cœur de l’entreprise\, avoir un impact important de son travail\, simplicité des échanges et prises de décision. Bref\, des atouts qui font la différence. Aujourd’hui\, les jeunes talents se tournent de plus en plus vers des PME pour toutes ces raisons. \nNous évoquerons les 10 étapes à suivre qui vont vous permettre de recruter le bon collaborateur sans perte de temps ni d’argent \n  \n  \nDe 9h00 à 10h30   \nSur inscription uniquement auprès de vperrin-terrin@cpme93.fr
URL:https://www.cpme93.fr/evenement/club-excellence-pme-le-benefice-dun-recrutement-reussi/
LOCATION:CPME 93\, 97 Rue du 11 Novembre\, Neuilly-sur-Marne\, Seine Saint-Denis\, 93330\, France
CATEGORIES:Club excellence
ATTACH;FMTTYPE=image/jpeg:https://www.cpme93.fr/wp-content/uploads/2019/01/rawpixel-788601-unsplash.jpg
ORGANIZER;CN="CPME 93":MAILTO:contact@cpme93.fr
GEO:48.8642588;2.5258684
X-APPLE-STRUCTURED-LOCATION;VALUE=URI;X-ADDRESS=CPME 93 97 Rue du 11 Novembre Neuilly-sur-Marne Seine Saint-Denis 93330 France;X-APPLE-RADIUS=500;X-TITLE=97 Rue du 11 Novembre:geo:2.5258684,48.8642588
END:VEVENT
END:VCALENDAR