BEGIN:VCALENDAR
VERSION:2.0
PRODID:-//CPME93 - ECPv6.12.0.1//NONSGML v1.0//EN
CALSCALE:GREGORIAN
METHOD:PUBLISH
X-ORIGINAL-URL:https://www.cpme93.fr
X-WR-CALDESC:Évènements pour CPME93
REFRESH-INTERVAL;VALUE=DURATION:PT1H
X-Robots-Tag:noindex
X-PUBLISHED-TTL:PT1H
BEGIN:VTIMEZONE
TZID:UTC
BEGIN:STANDARD
TZOFFSETFROM:+0000
TZOFFSETTO:+0000
TZNAME:UTC
DTSTART:20230101T000000
END:STANDARD
END:VTIMEZONE
BEGIN:VEVENT
DTSTART;TZID=UTC:20230329T090000
DTEND;TZID=UTC:20230329T100000
DTSTAMP:20260421T012033
CREATED:20230214T104222Z
LAST-MODIFIED:20230214T104222Z
UID:10000928-1680080400-1680084000@www.cpme93.fr
SUMMARY:10 bonnes pratiques pour réussir son site WordPress
DESCRIPTION:Comment créer un site avec WordPress ?\nAujourd’hui\, 66% des TPE-PME disposent d’un site internet. En effet\, depuis la crise sanitaire\, avoir un site est devenu un impératif commercial. En 2023\, il existe de nombreux moyens permettant de créer son propre site\, dont WordPress. Cet outil\, présente de nombreux atouts\, il permet de créer et de gérer très facilement des contenus. \nWordPress est un système gratuit et libre d’utilisation. De nombreux thèmes sont à votre disposition ainsi que de nombreux plugins\, ce qui permet d’avoir un site personnalisé et à l’image de votre entreprise. Cet outil vous aidera également pour votre référencement naturel afin de mettre en avant votre site sur les moteurs de recherche. \nPour réaliser votre site avec WordPress\, il est nécessaire de prendre en compte quelques points essentiels : la stratégie\, le cahier des charges\, le bon nom de domaine pour votre entreprise\, les paramètres de WordPress et surtout les thèmes\, plugins et les constructeurs qui vous permettront d’optimiser les pages de votre site. \nAu programme du webinaire :\nLors de ce webinaire\, dédié aux TPE-PME\, Deborah Donnier\, chef de projet Web\, vous donnera les clefs indispensables pour construire sans difficulté un site WordPress de qualité\, professionnel et contribuant ainsi au développement de votre entreprise. Avec l’analyse de cas concrets\,  les volets suivants seront développés : \n\nLa stratégie\nL’hébergement d’un site\nLes thèmes\, extensions et constructeurs de pages\nLa sécurité d’un site\nL’importance des sauvegardes\nOptimisation des performances d’un site\nLe référencement naturel\nLes réglementations à prendre en compte\n\nVous rencontrez des problèmes pour vous inscrire ? Alors\, Contactez-nous ! \nInscription
URL:https://www.cpme93.fr/evenement/10-bonnes-pratiques-pour-reussir-son-site-wordpress/
LOCATION:Seine Saint-Denis
CATEGORIES:Divers
ATTACH;FMTTYPE=image/jpeg:https://www.cpme93.fr/wp-content/uploads/2021/02/man-working-on-a-laptop-with-the-word-webinar-on-t-XHPBSK6.jpg
ORGANIZER;CN="CPME 93":MAILTO:contact@cpme93.fr
END:VEVENT
END:VCALENDAR