BEGIN:VCALENDAR
VERSION:2.0
PRODID:-//CPME93 - ECPv6.12.0.1//NONSGML v1.0//EN
CALSCALE:GREGORIAN
METHOD:PUBLISH
X-ORIGINAL-URL:https://www.cpme93.fr
X-WR-CALDESC:Évènements pour CPME93
REFRESH-INTERVAL;VALUE=DURATION:PT1H
X-Robots-Tag:noindex
X-PUBLISHED-TTL:PT1H
BEGIN:VTIMEZONE
TZID:UTC
BEGIN:STANDARD
TZOFFSETFROM:+0000
TZOFFSETTO:+0000
TZNAME:UTC
DTSTART:20220101T000000
END:STANDARD
END:VTIMEZONE
BEGIN:VEVENT
DTSTART;VALUE=DATE:20221011
DTEND;VALUE=DATE:20221012
DTSTAMP:20260421T011801
CREATED:20220719T090512Z
LAST-MODIFIED:20220719T090512Z
UID:10000910-1665446400-1665532799@www.cpme93.fr
SUMMARY:formation Sauveteur secouriste du travail SST
DESCRIPTION:La formation Sauveteur secouriste du travail SST est obligatoire pour les entreprises et la durée de validité du certificat de « Sauveteur Secouriste du Travail » est valable 24 mois. \nLa CPME 93 vous offre cette formation \n\nSST  RECYCLAGE LE 11 OCTOBRE 2022 \nAttention dernière session de 2022  \nnombre de places limitées \nOBJECTIF DE LA FORMATION SST : \nA la fin de la formation de sauveteur secouriste du travail SST (secourisme en entreprise)\, le participant sera capable de connaître les principes de base de la prévention\, rechercher les risques pour protéger\, examiner une victime\, alerter les secours et secourir une victime jusqu’à la prise en charge des secours spécialisés. \n  \nLE ROLE DU SAUVETEUR SECOURISTE : \nApporter les premiers secours à une personne en cas d’urgence sur le lieu de travail dans l’attente de l’arrivée des secours spécialisés. \n  \nNOMBRE DE SST OBLIGATOIRE DANS UNE ENTREPRISE ? \nChaque entreprise doit avoir au moins 1 SST sur chaque site. L’INRS recommande un effectif de 10 à 15 % de salariés SST. \n  \nAttention nombre de places limitées \nINSCRIPTION
URL:https://www.cpme93.fr/evenement/formation-sauveteur-secouriste-du-travail-sst/
LOCATION:CPME 93\, 97 Rue du 11 Novembre\, Neuilly-sur-Marne\, Seine Saint-Denis\, 93330\, France
CATEGORIES:Formation
ATTACH;FMTTYPE=image/jpeg:https://www.cpme93.fr/wp-content/uploads/2022/07/EAF1_424600.jpg
ORGANIZER;CN="CPME 93":MAILTO:contact@cpme93.fr
GEO:48.8642588;2.5258684
X-APPLE-STRUCTURED-LOCATION;VALUE=URI;X-ADDRESS=CPME 93 97 Rue du 11 Novembre Neuilly-sur-Marne Seine Saint-Denis 93330 France;X-APPLE-RADIUS=500;X-TITLE=97 Rue du 11 Novembre:geo:2.5258684,48.8642588
END:VEVENT
END:VCALENDAR