BEGIN:VCALENDAR
VERSION:2.0
PRODID:-//CPME93 - ECPv6.12.0.1//NONSGML v1.0//EN
CALSCALE:GREGORIAN
METHOD:PUBLISH
X-WR-CALNAME:CPME93
X-ORIGINAL-URL:https://www.cpme93.fr
X-WR-CALDESC:Évènements pour CPME93
REFRESH-INTERVAL;VALUE=DURATION:PT1H
X-Robots-Tag:noindex
X-PUBLISHED-TTL:PT1H
BEGIN:VTIMEZONE
TZID:Europe/Helsinki
BEGIN:DAYLIGHT
TZOFFSETFROM:+0200
TZOFFSETTO:+0300
TZNAME:EEST
DTSTART:20220327T010000
END:DAYLIGHT
BEGIN:STANDARD
TZOFFSETFROM:+0300
TZOFFSETTO:+0200
TZNAME:EET
DTSTART:20221030T010000
END:STANDARD
END:VTIMEZONE
BEGIN:VEVENT
DTSTART;TZID=Europe/Helsinki:20220927T090000
DTEND;TZID=Europe/Helsinki:20220927T130000
DTSTAMP:20260420T182226
CREATED:20220719T085247Z
LAST-MODIFIED:20220719T085345Z
UID:10000909-1664269200-1664283600@www.cpme93.fr
SUMMARY:FORMATION GRATUITE: Responsabilité pénale du chef  d'entreprise
DESCRIPTION:La vocation de ce stage est de permettre au chef d’entreprise de prendre conscience de l’étendue de sa responsabilité pénale et des moyens organisationnels permettant d’y répondre de manière optimale. \nIl permet de connaître les conditions exactes de son engagement\, en termes de procédure et d’infractions susceptibles d’être retenues. \nLe 27 septembre de 9h à 13h \nau siège de la CPME93 – 97 rue du 11 novembre \n93330 NEUILLY SUR MARNE\n \n  \nPROGRAMME : \n\nDétermination du responsable pénal\n\nLe chef d’entreprise \nDans une entreprise individuelle\nAu sein d’une personne morale\nResponsabilité pénale du fait d’autrui en matière d’hygiène et de sécurité et de santé mentale \nLa personne morale \nConditions\nLiens avec la responsabilité du chef d’entreprise \n  \n2. Le transfert de la responsabilité par la délégation de pouvoirs \nLes conditions et les intérêts\nLa preuve\nLa subdélégation \n  \n3. Rapports entre responsabilité pénale et responsabilité civile du chef d’entreprise \nLa distinction entre responsabilité civile et responsabilité pénale\nLes conditions de la responsabilité civile de l’employeur à l’égard des tiers en cas d’accident \n  \n4. La constatation des infractions \nL’auteur du constat\nLe procès-verbal\nLes atteintes au contrôle de l’inspecteur du travail \n  \n5. La mise en mouvement de l’action \nL’action publique (demandeurs\, procédure)\nL’action civile (demandeurs\, procédure) \n  \n6. La peine \nLa nature\nL’individualisation \n  \n  \nPour ceux qui le souhaiteront\, un cocktail déjeunatoire sera proposé afin d’échanger entre dirigeants sur les bonnes pratiques et les propositions très pratiques pour se prémunir. \n  \nJE SOUHAITE PARTICIPER AU COCKTAIL DEJEUNATOIRE
URL:https://www.cpme93.fr/evenement/formation-gratuite-responsabilite-penale-du-chef-dentreprise/
LOCATION:CPME 93\, 97 Rue du 11 Novembre\, Neuilly-sur-Marne\, Seine Saint-Denis\, 93330\, France
CATEGORIES:Formation
ATTACH;FMTTYPE=image/jpeg:https://www.cpme93.fr/wp-content/uploads/2022/07/prevenir-le-stress3.jpg
ORGANIZER;CN="CPME 93":MAILTO:contact@cpme93.fr
GEO:48.8642588;2.5258684
X-APPLE-STRUCTURED-LOCATION;VALUE=URI;X-ADDRESS=CPME 93 97 Rue du 11 Novembre Neuilly-sur-Marne Seine Saint-Denis 93330 France;X-APPLE-RADIUS=500;X-TITLE=97 Rue du 11 Novembre:geo:2.5258684,48.8642588
END:VEVENT
END:VCALENDAR