BEGIN:VCALENDAR
VERSION:2.0
PRODID:-//CPME93 - ECPv6.12.0.1//NONSGML v1.0//EN
CALSCALE:GREGORIAN
METHOD:PUBLISH
X-ORIGINAL-URL:https://www.cpme93.fr
X-WR-CALDESC:Évènements pour CPME93
REFRESH-INTERVAL;VALUE=DURATION:PT1H
X-Robots-Tag:noindex
X-PUBLISHED-TTL:PT1H
BEGIN:VTIMEZONE
TZID:Europe/Paris
BEGIN:DAYLIGHT
TZOFFSETFROM:+0100
TZOFFSETTO:+0200
TZNAME:CEST
DTSTART:20190331T010000
END:DAYLIGHT
BEGIN:STANDARD
TZOFFSETFROM:+0200
TZOFFSETTO:+0100
TZNAME:CET
DTSTART:20191027T010000
END:STANDARD
END:VTIMEZONE
BEGIN:VEVENT
DTSTART;TZID=Europe/Paris:20190122T083000
DTEND;TZID=Europe/Paris:20190122T100000
DTSTAMP:20260424T160452
CREATED:20190118T115010Z
LAST-MODIFIED:20190118T115010Z
UID:10000754-1548145800-1548151200@www.cpme93.fr
SUMMARY:Club Excellence PME - Le prélèvement à la source\, un enjeu de communication pour le dirigeant
DESCRIPTION:Le prélèvement à la source est applicable dès le 1er janvier 2019 et soulève encore de nombreuses interrogations tant pour les salariés que pour les entreprises\, les conséquences éventuelles de cette réforme sur le climat social de l’entreprise sont à anticiper dès à présent !  S’il est évident que l’entreprise est seulement collectrice de l’impôt et que l’employeur n’aura pas connaissance de la situation personnelle de son salarié\, à l’exception de son taux moyen d’imposition\, plusieurs risques peuvent apparaitre au niveau des relations sociales dans l’entreprise. \nCertains collaborateurs vont voir cette réforme comme une immixtion dans leur vie privée. Des doléances individuelles ou collectives peuvent éclore au cours des négociations annuelles ou au moment de la mise en place du prélèvement à la source. \nL’entreprise est donc face à un enjeu majeur de confiance auprès de ses collaborateurs. Cette Matinale vous propose  de  transformer cette nouvelle contrainte réglementaire en opportunité de dialogue pour maintenir un bon climat social dans votre entreprise. \nAprès un rappel technique du fonctionnement du PAS\, du calendrier de mise en œuvre\, des différents taux\,  nos experts poseront les limites et obligations qui sont les vôtres comme employeur\, enfin vous pourrez repartir avec des outils et une méthodologie pour une communication efficace et positive auprès de vos collaborateurs. \n  \nDe 8h30 à 10h   \nSur inscription uniquement auprès de vperrin-terrin@cpme93.fr
URL:https://www.cpme93.fr/evenement/club-excellence-pme-le-prelevement-a-la-source-un-enjeu-de-communication-pour-le-dirigeant/
LOCATION:CPME Paris Ile-de-France\, 19 rue de l’Amiral d’Estaing\, Paris\, 75116\, France
CATEGORIES:Club excellence
ATTACH;FMTTYPE=image/jpeg:https://www.cpme93.fr/wp-content/uploads/2019/01/rawpixel-633841-unsplash.jpg
ORGANIZER;CN="CPME 93":MAILTO:contact@cpme93.fr
END:VEVENT
BEGIN:VEVENT
DTSTART;TZID=Europe/Paris:20190122T183000
DTEND;TZID=Europe/Paris:20190122T210000
DTSTAMP:20260424T160452
CREATED:20190118T114346Z
LAST-MODIFIED:20190118T114346Z
UID:10000751-1548181800-1548190800@www.cpme93.fr
SUMMARY:Soirée du Club EAF
DESCRIPTION:« bien-être\, diététique et santé » un atout pour les dirigeant(es) \nDe 18h30 à 21h00 – cocktail dinatoire et networking \n  \nInscription obligatoire\, lien bientôt disponible
URL:https://www.cpme93.fr/evenement/soiree-du-club-eaf/
LOCATION:CPME 93\, 97 Rue du 11 Novembre\, Neuilly-sur-Marne\, Seine Saint-Denis\, 93330\, France
CATEGORIES:Divers
ATTACH;FMTTYPE=image/jpeg:https://www.cpme93.fr/wp-content/uploads/2018/07/chuttersnap-461238-unsplash.jpg
ORGANIZER;CN="CPME 93":MAILTO:contact@cpme93.fr
GEO:48.8642588;2.5258684
X-APPLE-STRUCTURED-LOCATION;VALUE=URI;X-ADDRESS=CPME 93 97 Rue du 11 Novembre Neuilly-sur-Marne Seine Saint-Denis 93330 France;X-APPLE-RADIUS=500;X-TITLE=97 Rue du 11 Novembre:geo:2.5258684,48.8642588
END:VEVENT
END:VCALENDAR