BEGIN:VCALENDAR
VERSION:2.0
PRODID:-//CPME93 - ECPv6.12.0.1//NONSGML v1.0//EN
CALSCALE:GREGORIAN
METHOD:PUBLISH
X-ORIGINAL-URL:https://www.cpme93.fr
X-WR-CALDESC:Évènements pour CPME93
REFRESH-INTERVAL;VALUE=DURATION:PT1H
X-Robots-Tag:noindex
X-PUBLISHED-TTL:PT1H
BEGIN:VTIMEZONE
TZID:Europe/Paris
BEGIN:DAYLIGHT
TZOFFSETFROM:+0100
TZOFFSETTO:+0200
TZNAME:CEST
DTSTART:20180325T010000
END:DAYLIGHT
BEGIN:STANDARD
TZOFFSETFROM:+0200
TZOFFSETTO:+0100
TZNAME:CET
DTSTART:20181028T010000
END:STANDARD
END:VTIMEZONE
BEGIN:VEVENT
DTSTART;TZID=Europe/Paris:20181023T090000
DTEND;TZID=Europe/Paris:20181023T103000
DTSTAMP:20260422T023506
CREATED:20180912T154850Z
LAST-MODIFIED:20180912T154850Z
UID:10000743-1540285200-1540290600@www.cpme93.fr
SUMMARY:Club Excellence PME - Comment éviter et gérer les impayés
DESCRIPTION:Le retard de paiement des factures par les clients peut être à l’origine de graves difficultés de trésorerie. C’est la raison pour laquelle le chef d’entreprise doit rester vigilant.\nDe plus\, les chances de paiement se réduisant avec le temps\, il est vivement recommandé d’agir rapidement le cas échéant. \nUn avocat et un juge du Tribunal de Commerce vous conseilleront \nDe 9h00 à 10h30 puis échanges et consultations \nRenseignements et inscriptions auprès de \nValérie PERRIN TERRIN \nvperrin-terrin@cpme93.fr
URL:https://www.cpme93.fr/evenement/club-excellence-pme-comment-eviter-et-gerer-les-impayes-2/
LOCATION:CPME 93\, 97 Rue du 11 Novembre\, Neuilly-sur-Marne\, Seine Saint-Denis\, 93330\, France
CATEGORIES:Club excellence
ATTACH;FMTTYPE=image/jpeg:https://www.cpme93.fr/wp-content/uploads/2018/09/visuel-impayés.jpg
ORGANIZER;CN="CPME 93":MAILTO:contact@cpme93.fr
GEO:48.8642588;2.5258684
X-APPLE-STRUCTURED-LOCATION;VALUE=URI;X-ADDRESS=CPME 93 97 Rue du 11 Novembre Neuilly-sur-Marne Seine Saint-Denis 93330 France;X-APPLE-RADIUS=500;X-TITLE=97 Rue du 11 Novembre:geo:2.5258684,48.8642588
END:VEVENT
END:VCALENDAR