BEGIN:VCALENDAR
VERSION:2.0
PRODID:-//CPME93 - ECPv6.12.0.1//NONSGML v1.0//EN
CALSCALE:GREGORIAN
METHOD:PUBLISH
X-WR-CALNAME:CPME93
X-ORIGINAL-URL:https://www.cpme93.fr
X-WR-CALDESC:Évènements pour CPME93
REFRESH-INTERVAL;VALUE=DURATION:PT1H
X-Robots-Tag:noindex
X-PUBLISHED-TTL:PT1H
BEGIN:VTIMEZONE
TZID:Europe/Paris
BEGIN:DAYLIGHT
TZOFFSETFROM:+0100
TZOFFSETTO:+0200
TZNAME:CEST
DTSTART:20180325T010000
END:DAYLIGHT
BEGIN:STANDARD
TZOFFSETFROM:+0200
TZOFFSETTO:+0100
TZNAME:CET
DTSTART:20181028T010000
END:STANDARD
END:VTIMEZONE
BEGIN:VEVENT
DTSTART;TZID=Europe/Paris:20181016T080000
DTEND;TZID=Europe/Paris:20181016T170000
DTSTAMP:20260423T235329
CREATED:20180720T163008Z
LAST-MODIFIED:20180912T155209Z
UID:10000735-1539676800-1539709200@www.cpme93.fr
SUMMARY:Le rdv des notaires
DESCRIPTION:Le manque d’anticipation est chaque année la cause de situations très \ndifficiles pour ceux qui restent\, parents ou entreprise :  \n  \nconjoint sans droit au logement\, cessation d’activité pour cause de fiscalité de transmission trop lourde\, de conflits successoraux …  \nPour éviter ces dangers\, il faut être informé et la réunion du 16 octobre a \ndeux objectifs : \n  \n– Préparer la transmission \n  \n– Réduire le coût fiscal de la transmission \n  \nEt aussi répondre à vos questions \n  \n Présentation  : \nMaître Jean Christophe LAUBY\, Notaire \nAurélien ROL\, Département Entreprises UNOFI (Union Notariale Financière) \nInscrivez-vous auprès de contact@cpme93.fr \n16 Octobre 2018 – de 8h30 à 10h30 \nà la CPME 93 \n97 rue du 11 novembre 93330 Neuilly sur Marne
URL:https://www.cpme93.fr/evenement/le-rdv-des-notaires/
LOCATION:CPME 93\, 97 Rue du 11 Novembre\, Neuilly-sur-Marne\, Seine Saint-Denis\, 93330\, France
CATEGORIES:Divers
ATTACH;FMTTYPE=image/jpeg:https://www.cpme93.fr/wp-content/uploads/2018/07/rawpixel-552390-unsplash.jpg
ORGANIZER;CN="CPME 93":MAILTO:contact@cpme93.fr
GEO:48.8642588;2.5258684
X-APPLE-STRUCTURED-LOCATION;VALUE=URI;X-ADDRESS=CPME 93 97 Rue du 11 Novembre Neuilly-sur-Marne Seine Saint-Denis 93330 France;X-APPLE-RADIUS=500;X-TITLE=97 Rue du 11 Novembre:geo:2.5258684,48.8642588
END:VEVENT
BEGIN:VEVENT
DTSTART;TZID=Europe/Paris:20181016T083000
DTEND;TZID=Europe/Paris:20181016T103000
DTSTAMP:20260423T235329
CREATED:20180912T154211Z
LAST-MODIFIED:20180912T154211Z
UID:10000740-1539678600-1539685800@www.cpme93.fr
SUMMARY:Club Excellence PME - La place du notaire aux côté du dirigeant
DESCRIPTION:Transmission\, réflexion sur sa situation patrimoniale\, protection au sein du couple\, retraite …Les notaires répondent à vos questions et vous éclairent sur les solutions pour les dirigeants autour d’un pdj \nInscription obligatoire auprès de contact@cpme93.fr \nDe 8h30 à 10h30 \nDes consultations vous seront offertes
URL:https://www.cpme93.fr/evenement/club-excellence-pme-la-place-du-notaire-aux-cote-du-dirigeant/
LOCATION:CPME 93\, 97 Rue du 11 Novembre\, Neuilly-sur-Marne\, Seine Saint-Denis\, 93330\, France
CATEGORIES:Club excellence
ATTACH;FMTTYPE=image/jpeg:https://www.cpme93.fr/wp-content/uploads/2018/09/visuel-notaire.jpg
ORGANIZER;CN="CPME 93":MAILTO:contact@cpme93.fr
GEO:48.8642588;2.5258684
X-APPLE-STRUCTURED-LOCATION;VALUE=URI;X-ADDRESS=CPME 93 97 Rue du 11 Novembre Neuilly-sur-Marne Seine Saint-Denis 93330 France;X-APPLE-RADIUS=500;X-TITLE=97 Rue du 11 Novembre:geo:2.5258684,48.8642588
END:VEVENT
END:VCALENDAR